{"text_format":"3","workbook":"xlsx","n_sheets":9,"sheets":["Табела 1","Табела 2 1пол20","Табела 2 Јан","Табела 2 Фев","Табела 2 Мар","Табела 2 Апр","Табела 2 Мај","Табела 2 Јун","Табела 3"],"read":"whole","date_system":"1900"}

{"sheet":"Табела 1","index":0,"n_rows":11,"n_cols":5,"rows_kept":11,"merged":[[0,0,0,4]]}
["Табела 1 Преглед на бројот на инспектори кои ќе вршат инспекциски надзор во месец [месец], [ГГГГ] година, по вид и звање"]
["Вид/Ниво-Звање","Инспектор за [вид 1]","Инспектор за [вид 2]","Инспектор за [вид n]","Вкупно"]
["Б1 – генерален инспектор",{"$nulls":3},{"$f":"SUM(B3:D3)","v":0}]
["Б2 – главен инспектор",{"$nulls":3},{"$f":"SUM(B4:D4)","v":0}]
["Б3 – пом. главен инспектор",{"$nulls":3},0]
["Б4 – виш инспектор",{"$nulls":3},0]
["В1 – советник инспектор",{"$nulls":3},0]
["В2 – самостоен инспектор",{"$nulls":3},0]
["В3 –помошник инспектор",{"$nulls":3},0]
["В4 – помлад инспектор",{"$nulls":3},0]
["Вкупно",{"$f":"SUM(B3:B10)","v":0},{"$f":"SUM(C3:C10)","v":0},0,0]

{"sheet":"Табела 2 1пол20","index":1,"n_rows":92,"n_cols":13,"rows_kept":92,"merged":[[0,0,0,12],[1,0,2,0],[1,1,2,1],[1,2,1,3],[1,4,1,9],[1,10,2,10],[1,11,2,11],[1,12,2,12],[91,0,91,1]]}
["Табела 2 Преглед на вкупниот број на планирани неправилности и инспекциски надзори според вид во месец [месец], [ГГГГ] година, по региони"]
["Ред.Бр.","Регион","Неправилности",null,"Редовен надзор по коефициент на сложеност",{"$nulls":5},"Вонреден надзор","Контролен надзор","Вкупно надзори"]
[null,null,"Месечен план","Според Год. План","Q1","Q2","Q3","Q4","Q5","Вкупно"]
[null,"Вардарски  регион",{"$f":"SUM(C5:C13)","v":0},{"$f":"SUM(D5:D13)","v":0},0,0,0,0,0,0,1,2,3]
[1,"Велес",{"$f":"SUM('Табела 2 Јан:Табела 2 Јун'!C5)","v":0},{"$f":"SUM('Табела 2 Јан:Табела 2 Јун'!D5)","v":0},{"$f":"SUM('Табела 2 Јан:Табела 2 Јун'!E5)","v":0},{"$f":"SUM('Табела 2 Јан:Табела 2 Јун'!F5)","v":0},{"$f":"SUM('Табела 2 Јан:Табела 2 Јун'!G5)","v":0},{"$f":"SUM('Табела 2 Јан:Табела 2 Јун'!H5)","v":0},{"$f":"SUM('Табела 2 Јан:Табела 2 Јун'!I5)","v":0},{"$f":"SUM(E5:I5)","v":0},{"$f":"SUM('Табела 2 Јан:Табела 2 Јун'!K5)","v":0},{"$f":"SUM('Табела 2 Јан:Табела 2 Јун'!L5)","v":2},{"$f":"SUM(J5:L5)","v":2}]
[2,"Градско",{"$f":"SUM('Табела 2 Јан:Табела 2 Јун'!C6)","v":0},{"$f":"SUM('Табела 2 Јан:Табела 2 Јун'!D6)","v":0},{"$f":"SUM('Табела 2 Јан:Табела 2 Јун'!E6)","v":0},{"$f":"SUM('Табела 2 Јан:Табела 2 Јун'!F6)","v":0},{"$f":"SUM('Табела 2 Јан:Табела 2 Јун'!G6)","v":0},{"$f":"SUM('Табела 2 Јан:Табела 2 Јун'!H6)","v":0},{"$f":"SUM('Табела 2 Јан:Табела 2 Јун'!I6)","v":0},{"$f":"SUM(E6:I6)","v":0},{"$f":"SUM('Табела 2 Јан:Табела 2 Јун'!K6)","v":0},{"$f":"SUM('Табела 2 Јан:Табела 2 Јун'!L6)","v":0},{"$f":"SUM(J6:L6)","v":0}]
[3,"Демир Капија",{"$f":"SUM('Табела 2 Јан:Табела 2 Јун'!C7)","v":0},{"$f":"SUM('Табела 2 Јан:Табела 2 Јун'!D7)","v":0},{"$f":"SUM('Табела 2 Јан:Табела 2 Јун'!E7)","v":0},{"$f":"SUM('Табела 2 Јан:Табела 2 Јун'!F7)","v":0},{"$f":"SUM('Табела 2 Јан:Табела 2 Јун'!G7)","v":0},{"$f":"SUM('Табела 2 Јан:Табела 2 Јун'!H7)","v":0},{"$f":"SUM('Табела 2 Јан:Табела 2 Јун'!I7)","v":0},0,{"$f":"SUM('Табела 2 Јан:Табела 2 Јун'!K7)","v":0},{"$f":"SUM('Табела 2 Јан:Табела 2 Јун'!L7)","v":0},0]
[4,"Кавадарци",{"$f":"SUM('Табела 2 Јан:Табела 2 Јун'!C8)","v":0},{"$f":"SUM('Табела 2 Јан:Табела 2 Јун'!D8)","v":0},{"$f":"SUM('Табела 2 Јан:Табела 2 Јун'!E8)","v":0},{"$f":"SUM('Табела 2 Јан:Табела 2 Јун'!F8)","v":0},{"$f":"SUM('Табела 2 Јан:Табела 2 Јун'!G8)","v":0},{"$f":"SUM('Табела 2 Јан:Табела 2 Јун'!H8)","v":0},{"$f":"SUM('Табела 2 Јан:Табела 2 Јун'!I8)","v":0},0,{"$f":"SUM('Табела 2 Јан:Табела 2 Јун'!K8)","v":1},{"$f":"SUM('Табела 2 Јан:Табела 2 Јун'!L8)","v":0},1]
[5,"Лозово",{"$f":"SUM('Табела 2 Јан:Табела 2 Јун'!C9)","v":0},{"$f":"SUM('Табела 2 Јан:Табела 2 Јун'!D9)","v":0},{"$f":"SUM('Табела 2 Јан:Табела 2 Јун'!E9)","v":0},{"$f":"SUM('Табела 2 Јан:Табела 2 Јун'!F9)","v":0},{"$f":"SUM('Табела 2 Јан:Табела 2 Јун'!G9)","v":0},{"$f":"SUM('Табела 2 Јан:Табела 2 Јун'!H9)","v":0},{"$f":"SUM('Табела 2 Јан:Табела 2 Јун'!I9)","v":0},0,{"$f":"SUM('Табела 2 Јан:Табела 2 Јун'!K9)","v":0},{"$f":"SUM('Табела 2 Јан:Табела 2 Јун'!L9)","v":0},0]
[6,"Неготино",{"$f":"SUM('Табела 2 Јан:Табела 2 Јун'!C10)","v":0},{"$f":"SUM('Табела 2 Јан:Табела 2 Јун'!D10)","v":0},{"$f":"SUM('Табела 2 Јан:Табела 2 Јун'!E10)","v":0},{"$f":"SUM('Табела 2 Јан:Табела 2 Јун'!F10)","v":0},{"$f":"SUM('Табела 2 Јан:Табела 2 Јун'!G10)","v":0},{"$f":"SUM('Табела 2 Јан:Табела 2 Јун'!H10)","v":0},{"$f":"SUM('Табела 2 Јан:Табела 2 Јун'!I10)","v":0},0,{"$f":"SUM('Табела 2 Јан:Табела 2 Јун'!K10)","v":0},{"$f":"SUM('Табела 2 Јан:Табела 2 Јун'!L10)","v":0},0]
[7,"Росоман",{"$f":"SUM('Табела 2 Јан:Табела 2 Јун'!C11)","v":0},{"$f":"SUM('Табела 2 Јан:Табела 2 Јун'!D11)","v":0},{"$f":"SUM('Табела 2 Јан:Табела 2 Јун'!E11)","v":0},{"$f":"SUM('Табела 2 Јан:Табела 2 Јун'!F11)","v":0},{"$f":"SUM('Табела 2 Јан:Табела 2 Јун'!G11)","v":0},{"$f":"SUM('Табела 2 Јан:Табела 2 Јун'!H11)","v":0},{"$f":"SUM('Табела 2 Јан:Табела 2 Јун'!I11)","v":0},0,{"$f":"SUM('Табела 2 Јан:Табела 2 Јун'!K11)","v":0},{"$f":"SUM('Табела 2 Јан:Табела 2 Јун'!L11)","v":0},0]
[8,"Свети Николе",{"$f":"SUM('Табела 2 Јан:Табела 2 Јун'!C12)","v":0},{"$f":"SUM('Табела 2 Јан:Табела 2 Јун'!D12)","v":0},{"$f":"SUM('Табела 2 Јан:Табела 2 Јун'!E12)","v":0},{"$f":"SUM('Табела 2 Јан:Табела 2 Јун'!F12)","v":0},{"$f":"SUM('Табела 2 Јан:Табела 2 Јун'!G12)","v":0},{"$f":"SUM('Табела 2 Јан:Табела 2 Јун'!H12)","v":0},{"$f":"SUM('Табела 2 Јан:Табела 2 Јун'!I12)","v":0},0,{"$f":"SUM('Табела 2 Јан:Табела 2 Јун'!K12)","v":0},{"$f":"SUM('Табела 2 Јан:Табела 2 Јун'!L12)","v":0},0]
[9,"Чашка",{"$f":"SUM('Табела 2 Јан:Табела 2 Јун'!C13)","v":0},{"$f":"SUM('Табела 2 Јан:Табела 2 Јун'!D13)","v":0},{"$f":"SUM('Табела 2 Јан:Табела 2 Јун'!E13)","v":0},{"$f":"SUM('Табела 2 Јан:Табела 2 Јун'!F13)","v":0},{"$f":"SUM('Табела 2 Јан:Табела 2 Јун'!G13)","v":0},{"$f":"SUM('Табела 2 Јан:Табела 2 Јун'!H13)","v":0},{"$f":"SUM('Табела 2 Јан:Табела 2 Јун'!I13)","v":0},0,{"$f":"SUM('Табела 2 Јан:Табела 2 Јун'!K13)","v":0},{"$f":"SUM('Табела 2 Јан:Табела 2 Јун'!L13)","v":0},0]
[null,"Источен регион",{"$f":"SUM(C15:C25)","v":0},{"$f":"SUM(D15:D25)","v":0},0,0,3,0,0,3,1,0,4]
[10,"Берово",{"$f":"SUM('Табела 2 Јан:Табела 2 Јун'!C15)","v":0},{"$f":"SUM('Табела 2 Јан:Табела 2 Јун'!D15)","v":0},{"$f":"SUM('Табела 2 Јан:Табела 2 Јун'!E15)","v":0},{"$f":"SUM('Табела 2 Јан:Табела 2 Јун'!F15)","v":0},{"$f":"SUM('Табела 2 Јан:Табела 2 Јун'!G15)","v":0},{"$f":"SUM('Табела 2 Јан:Табела 2 Јун'!H15)","v":0},{"$f":"SUM('Табела 2 Јан:Табела 2 Јун'!I15)","v":0},0,{"$f":"SUM('Табела 2 Јан:Табела 2 Јун'!K15)","v":0},{"$f":"SUM('Табела 2 Јан:Табела 2 Јун'!L15)","v":0},0]
[11,"Виница",{"$f":"SUM('Табела 2 Јан:Табела 2 Јун'!C16)","v":0},{"$f":"SUM('Табела 2 Јан:Табела 2 Јун'!D16)","v":0},{"$f":"SUM('Табела 2 Јан:Табела 2 Јун'!E16)","v":0},{"$f":"SUM('Табела 2 Јан:Табела 2 Јун'!F16)","v":0},{"$f":"SUM('Табела 2 Јан:Табела 2 Јун'!G16)","v":0},{"$f":"SUM('Табела 2 Јан:Табела 2 Јун'!H16)","v":0},{"$f":"SUM('Табела 2 Јан:Табела 2 Јун'!I16)","v":0},0,{"$f":"SUM('Табела 2 Јан:Табела 2 Јун'!K16)","v":0},{"$f":"SUM('Табела 2 Јан:Табела 2 Јун'!L16)","v":0},0]
[12,"Делчево",{"$f":"SUM('Табела 2 Јан:Табела 2 Јун'!C17)","v":0},{"$f":"SUM('Табела 2 Јан:Табела 2 Јун'!D17)","v":0},{"$f":"SUM('Табела 2 Јан:Табела 2 Јун'!E17)","v":0},{"$f":"SUM('Табела 2 Јан:Табела 2 Јун'!F17)","v":0},{"$f":"SUM('Табела 2 Јан:Табела 2 Јун'!G17)","v":0},{"$f":"SUM('Табела 2 Јан:Табела 2 Јун'!H17)","v":0},{"$f":"SUM('Табела 2 Јан:Табела 2 Јун'!I17)","v":0},0,{"$f":"SUM('Табела 2 Јан:Табела 2 Јун'!K17)","v":0},{"$f":"SUM('Табела 2 Јан:Табела 2 Јун'!L17)","v":0},0]
[13,"Зрновци",{"$f":"SUM('Табела 2 Јан:Табела 2 Јун'!C18)","v":0},{"$f":"SUM('Табела 2 Јан:Табела 2 Јун'!D18)","v":0},{"$f":"SUM('Табела 2 Јан:Табела 2 Јун'!E18)","v":0},{"$f":"SUM('Табела 2 Јан:Табела 2 Јун'!F18)","v":0},{"$f":"SUM('Табела 2 Јан:Табела 2 Јун'!G18)","v":0},{"$f":"SUM('Табела 2 Јан:Табела 2 Јун'!H18)","v":0},{"$f":"SUM('Табела 2 Јан:Табела 2 Јун'!I18)","v":0},0,{"$f":"SUM('Табела 2 Јан:Табела 2 Јун'!K18)","v":0},{"$f":"SUM('Табела 2 Јан:Табела 2 Јун'!L18)","v":0},0]
[14,"Карбинци",{"$f":"SUM('Табела 2 Јан:Табела 2 Јун'!C19)","v":0},{"$f":"SUM('Табела 2 Јан:Табела 2 Јун'!D19)","v":0},{"$f":"SUM('Табела 2 Јан:Табела 2 Јун'!E19)","v":0},{"$f":"SUM('Табела 2 Јан:Табела 2 Јун'!F19)","v":0},{"$f":"SUM('Табела 2 Јан:Табела 2 Јун'!G19)","v":0},{"$f":"SUM('Табела 2 Јан:Табела 2 Јун'!H19)","v":0},{"$f":"SUM('Табела 2 Јан:Табела 2 Јун'!I19)","v":0},0,{"$f":"SUM('Табела 2 Јан:Табела 2 Јун'!K19)","v":0},{"$f":"SUM('Табела 2 Јан:Табела 2 Јун'!L19)","v":0},0]
[15,"Кочани",{"$f":"SUM('Табела 2 Јан:Табела 2 Јун'!C20)","v":0},{"$f":"SUM('Табела 2 Јан:Табела 2 Јун'!D20)","v":0},{"$f":"SUM('Табела 2 Јан:Табела 2 Јун'!E20)","v":0},{"$f":"SUM('Табела 2 Јан:Табела 2 Јун'!F20)","v":0},{"$f":"SUM('Табела 2 Јан:Табела 2 Јун'!G20)","v":3},{"$f":"SUM('Табела 2 Јан:Табела 2 Јун'!H20)","v":0},{"$f":"SUM('Табела 2 Јан:Табела 2 Јун'!I20)","v":0},3,{"$f":"SUM('Табела 2 Јан:Табела 2 Јун'!K20)","v":1},{"$f":"SUM('Табела 2 Јан:Табела 2 Јун'!L20)","v":0},4]
[16,"Македонска Каменица",{"$f":"SUM('Табела 2 Јан:Табела 2 Јун'!C21)","v":0},{"$f":"SUM('Табела 2 Јан:Табела 2 Јун'!D21)","v":0},{"$f":"SUM('Табела 2 Јан:Табела 2 Јун'!E21)","v":0},{"$f":"SUM('Табела 2 Јан:Табела 2 Јун'!F21)","v":0},{"$f":"SUM('Табела 2 Јан:Табела 2 Јун'!G21)","v":0},{"$f":"SUM('Табела 2 Јан:Табела 2 Јун'!H21)","v":0},{"$f":"SUM('Табела 2 Јан:Табела 2 Јун'!I21)","v":0},0,{"$f":"SUM('Табела 2 Јан:Табела 2 Јун'!K21)","v":0},{"$f":"SUM('Табела 2 Јан:Табела 2 Јун'!L21)","v":0},0]
[17,"Пехчево",{"$f":"SUM('Табела 2 Јан:Табела 2 Јун'!C22)","v":0},{"$f":"SUM('Табела 2 Јан:Табела 2 Јун'!D22)","v":0},{"$f":"SUM('Табела 2 Јан:Табела 2 Јун'!E22)","v":0},{"$f":"SUM('Табела 2 Јан:Табела 2 Јун'!F22)","v":0},{"$f":"SUM('Табела 2 Јан:Табела 2 Јун'!G22)","v":0},{"$f":"SUM('Табела 2 Јан:Табела 2 Јун'!H22)","v":0},{"$f":"SUM('Табела 2 Јан:Табела 2 Јун'!I22)","v":0},0,{"$f":"SUM('Табела 2 Јан:Табела 2 Јун'!K22)","v":0},{"$f":"SUM('Табела 2 Јан:Табела 2 Јун'!L22)","v":0},0]
[18,"Пробиштип",{"$f":"SUM('Табела 2 Јан:Табела 2 Јун'!C23)","v":0},{"$f":"SUM('Табела 2 Јан:Табела 2 Јун'!D23)","v":0},{"$f":"SUM('Табела 2 Јан:Табела 2 Јун'!E23)","v":0},{"$f":"SUM('Табела 2 Јан:Табела 2 Јун'!F23)","v":0},{"$f":"SUM('Табела 2 Јан:Табела 2 Јун'!G23)","v":0},{"$f":"SUM('Табела 2 Јан:Табела 2 Јун'!H23)","v":0},{"$f":"SUM('Табела 2 Јан:Табела 2 Јун'!I23)","v":0},0,{"$f":"SUM('Табела 2 Јан:Табела 2 Јун'!K23)","v":0},{"$f":"SUM('Табела 2 Јан:Табела 2 Јун'!L23)","v":0},0]
[19,"Чешиново",{"$f":"SUM('Табела 2 Јан:Табела 2 Јун'!C24)","v":0},{"$f":"SUM('Табела 2 Јан:Табела 2 Јун'!D24)","v":0},{"$f":"SUM('Табела 2 Јан:Табела 2 Јун'!E24)","v":0},{"$f":"SUM('Табела 2 Јан:Табела 2 Јун'!F24)","v":0},{"$f":"SUM('Табела 2 Јан:Табела 2 Јун'!G24)","v":0},{"$f":"SUM('Табела 2 Јан:Табела 2 Јун'!H24)","v":0},{"$f":"SUM('Табела 2 Јан:Табела 2 Јун'!I24)","v":0},0,{"$f":"SUM('Табела 2 Јан:Табела 2 Јун'!K24)","v":0},{"$f":"SUM('Табела 2 Јан:Табела 2 Јун'!L24)","v":0},0]
[20,"Штип",{"$f":"SUM('Табела 2 Јан:Табела 2 Јун'!C25)","v":0},{"$f":"SUM('Табела 2 Јан:Табела 2 Јун'!D25)","v":0},{"$f":"SUM('Табела 2 Јан:Табела 2 Јун'!E25)","v":0},{"$f":"SUM('Табела 2 Јан:Табела 2 Јун'!F25)","v":0},{"$f":"SUM('Табела 2 Јан:Табела 2 Јун'!G25)","v":0},{"$f":"SUM('Табела 2 Јан:Табела 2 Јун'!H25)","v":0},{"$f":"SUM('Табела 2 Јан:Табела 2 Јун'!I25)","v":0},0,{"$f":"SUM('Табела 2 Јан:Табела 2 Јун'!K25)","v":0},{"$f":"SUM('Табела 2 Јан:Табела 2 Јун'!L25)","v":0},0]
[null,"Југозападен регион",{"$f":"SUM(C27:C35)","v":0},{"$f":"SUM(D27:D35)","v":0},0,0,6,0,0,6,0,0,6]
[21,"Вевчани",{"$f":"SUM('Табела 2 Јан:Табела 2 Јун'!C27)","v":0},{"$f":"SUM('Табела 2 Јан:Табела 2 Јун'!D27)","v":0},{"$f":"SUM('Табела 2 Јан:Табела 2 Јун'!E27)","v":0},{"$f":"SUM('Табела 2 Јан:Табела 2 Јун'!F27)","v":0},{"$f":"SUM('Табела 2 Јан:Табела 2 Јун'!G27)","v":0},{"$f":"SUM('Табела 2 Јан:Табела 2 Јун'!H27)","v":0},{"$f":"SUM('Табела 2 Јан:Табела 2 Јун'!I27)","v":0},0,{"$f":"SUM('Табела 2 Јан:Табела 2 Јун'!K27)","v":0},{"$f":"SUM('Табела 2 Јан:Табела 2 Јун'!L27)","v":0},0]
[22,"Дебар",{"$f":"SUM('Табела 2 Јан:Табела 2 Јун'!C28)","v":0},{"$f":"SUM('Табела 2 Јан:Табела 2 Јун'!D28)","v":0},{"$f":"SUM('Табела 2 Јан:Табела 2 Јун'!E28)","v":0},{"$f":"SUM('Табела 2 Јан:Табела 2 Јун'!F28)","v":0},{"$f":"SUM('Табела 2 Јан:Табела 2 Јун'!G28)","v":0},{"$f":"SUM('Табела 2 Јан:Табела 2 Јун'!H28)","v":0},{"$f":"SUM('Табела 2 Јан:Табела 2 Јун'!I28)","v":0},0,{"$f":"SUM('Табела 2 Јан:Табела 2 Јун'!K28)","v":0},{"$f":"SUM('Табела 2 Јан:Табела 2 Јун'!L28)","v":0},0]
[23,"Дебарца",{"$f":"SUM('Табела 2 Јан:Табела 2 Јун'!C29)","v":0},{"$f":"SUM('Табела 2 Јан:Табела 2 Јун'!D29)","v":0},{"$f":"SUM('Табела 2 Јан:Табела 2 Јун'!E29)","v":0},{"$f":"SUM('Табела 2 Јан:Табела 2 Јун'!F29)","v":0},{"$f":"SUM('Табела 2 Јан:Табела 2 Јун'!G29)","v":0},{"$f":"SUM('Табела 2 Јан:Табела 2 Јун'!H29)","v":0},{"$f":"SUM('Табела 2 Јан:Табела 2 Јун'!I29)","v":0},0,{"$f":"SUM('Табела 2 Јан:Табела 2 Јун'!K29)","v":0},{"$f":"SUM('Табела 2 Јан:Табела 2 Јун'!L29)","v":0},0]
[24,"Кичево",{"$f":"SUM('Табела 2 Јан:Табела 2 Јун'!C30)","v":0},{"$f":"SUM('Табела 2 Јан:Табела 2 Јун'!D30)","v":0},{"$f":"SUM('Табела 2 Јан:Табела 2 Јун'!E30)","v":0},{"$f":"SUM('Табела 2 Јан:Табела 2 Јун'!F30)","v":0},{"$f":"SUM('Табела 2 Јан:Табела 2 Јун'!G30)","v":0},{"$f":"SUM('Табела 2 Јан:Табела 2 Јун'!H30)","v":0},{"$f":"SUM('Табела 2 Јан:Табела 2 Јун'!I30)","v":0},0,{"$f":"SUM('Табела 2 Јан:Табела 2 Јун'!K30)","v":0},{"$f":"SUM('Табела 2 Јан:Табела 2 Јун'!L30)","v":0},0]
[25,"Македонски Брод",{"$f":"SUM('Табела 2 Јан:Табела 2 Јун'!C31)","v":0},{"$f":"SUM('Табела 2 Јан:Табела 2 Јун'!D31)","v":0},{"$f":"SUM('Табела 2 Јан:Табела 2 Јун'!E31)","v":0},{"$f":"SUM('Табела 2 Јан:Табела 2 Јун'!F31)","v":0},{"$f":"SUM('Табела 2 Јан:Табела 2 Јун'!G31)","v":0},{"$f":"SUM('Табела 2 Јан:Табела 2 Јун'!H31)","v":0},{"$f":"SUM('Табела 2 Јан:Табела 2 Јун'!I31)","v":0},0,{"$f":"SUM('Табела 2 Јан:Табела 2 Јун'!K31)","v":0},{"$f":"SUM('Табела 2 Јан:Табела 2 Јун'!L31)","v":0},0]
[26,"Охрид",{"$f":"SUM('Табела 2 Јан:Табела 2 Јун'!C32)","v":0},{"$f":"SUM('Табела 2 Јан:Табела 2 Јун'!D32)","v":0},{"$f":"SUM('Табела 2 Јан:Табела 2 Јун'!E32)","v":0},{"$f":"SUM('Табела 2 Јан:Табела 2 Јун'!F32)","v":0},{"$f":"SUM('Табела 2 Јан:Табела 2 Јун'!G32)","v":3},{"$f":"SUM('Табела 2 Јан:Табела 2 Јун'!H32)","v":0},{"$f":"SUM('Табела 2 Јан:Табела 2 Јун'!I32)","v":0},3,{"$f":"SUM('Табела 2 Јан:Табела 2 Јун'!K32)","v":0},{"$f":"SUM('Табела 2 Јан:Табела 2 Јун'!L32)","v":0},3]
[27,"Пласница",{"$f":"SUM('Табела 2 Јан:Табела 2 Јун'!C33)","v":0},{"$f":"SUM('Табела 2 Јан:Табела 2 Јун'!D33)","v":0},{"$f":"SUM('Табела 2 Јан:Табела 2 Јун'!E33)","v":0},{"$f":"SUM('Табела 2 Јан:Табела 2 Јун'!F33)","v":0},{"$f":"SUM('Табела 2 Јан:Табела 2 Јун'!G33)","v":0},{"$f":"SUM('Табела 2 Јан:Табела 2 Јун'!H33)","v":0},{"$f":"SUM('Табела 2 Јан:Табела 2 Јун'!I33)","v":0},0,{"$f":"SUM('Табела 2 Јан:Табела 2 Јун'!K33)","v":0},{"$f":"SUM('Табела 2 Јан:Табела 2 Јун'!L33)","v":0},0]
[28,"Струга",{"$f":"SUM('Табела 2 Јан:Табела 2 Јун'!C34)","v":0},{"$f":"SUM('Табела 2 Јан:Табела 2 Јун'!D34)","v":0},{"$f":"SUM('Табела 2 Јан:Табела 2 Јун'!E34)","v":0},{"$f":"SUM('Табела 2 Јан:Табела 2 Јун'!F34)","v":0},{"$f":"SUM('Табела 2 Јан:Табела 2 Јун'!G34)","v":3},{"$f":"SUM('Табела 2 Јан:Табела 2 Јун'!H34)","v":0},{"$f":"SUM('Табела 2 Јан:Табела 2 Јун'!I34)","v":0},3,{"$f":"SUM('Табела 2 Јан:Табела 2 Јун'!K34)","v":0},{"$f":"SUM('Табела 2 Јан:Табела 2 Јун'!L34)","v":0},3]
[29,"Центар Жупа",{"$f":"SUM('Табела 2 Јан:Табела 2 Јун'!C35)","v":0},{"$f":"SUM('Табела 2 Јан:Табела 2 Јун'!D35)","v":0},{"$f":"SUM('Табела 2 Јан:Табела 2 Јун'!E35)","v":0},{"$f":"SUM('Табела 2 Јан:Табела 2 Јун'!F35)","v":0},{"$f":"SUM('Табела 2 Јан:Табела 2 Јун'!G35)","v":0},{"$f":"SUM('Табела 2 Јан:Табела 2 Јун'!H35)","v":0},{"$f":"SUM('Табела 2 Јан:Табела 2 Јун'!I35)","v":0},0,{"$f":"SUM('Табела 2 Јан:Табела 2 Јун'!K35)","v":0},{"$f":"SUM('Табела 2 Јан:Табела 2 Јун'!L35)","v":0},0]
[null,"Југоисточен регион",{"$f":"SUM(C37:C46)","v":0},{"$f":"SUM(D37:D46)","v":0},0,0,4,0,0,4,0,0,4]
[30,"Богданци",{"$f":"SUM('Табела 2 Јан:Табела 2 Јун'!C37)","v":0},{"$f":"SUM('Табела 2 Јан:Табела 2 Јун'!D37)","v":0},{"$f":"SUM('Табела 2 Јан:Табела 2 Јун'!E37)","v":0},{"$f":"SUM('Табела 2 Јан:Табела 2 Јун'!F37)","v":0},{"$f":"SUM('Табела 2 Јан:Табела 2 Јун'!G37)","v":0},{"$f":"SUM('Табела 2 Јан:Табела 2 Јун'!H37)","v":0},{"$f":"SUM('Табела 2 Јан:Табела 2 Јун'!I37)","v":0},0,{"$f":"SUM('Табела 2 Јан:Табела 2 Јун'!K37)","v":0},{"$f":"SUM('Табела 2 Јан:Табела 2 Јун'!L37)","v":0},0]
[31,"Босилово",{"$f":"SUM('Табела 2 Јан:Табела 2 Јун'!C38)","v":0},{"$f":"SUM('Табела 2 Јан:Табела 2 Јун'!D38)","v":0},{"$f":"SUM('Табела 2 Јан:Табела 2 Јун'!E38)","v":0},{"$f":"SUM('Табела 2 Јан:Табела 2 Јун'!F38)","v":0},{"$f":"SUM('Табела 2 Јан:Табела 2 Јун'!G38)","v":0},{"$f":"SUM('Табела 2 Јан:Табела 2 Јун'!H38)","v":0},{"$f":"SUM('Табела 2 Јан:Табела 2 Јун'!I38)","v":0},0,{"$f":"SUM('Табела 2 Јан:Табела 2 Јун'!K38)","v":0},{"$f":"SUM('Табела 2 Јан:Табела 2 Јун'!L38)","v":0},0]
[32,"Валандово",{"$f":"SUM('Табела 2 Јан:Табела 2 Јун'!C39)","v":0},{"$f":"SUM('Табела 2 Јан:Табела 2 Јун'!D39)","v":0},{"$f":"SUM('Табела 2 Јан:Табела 2 Јун'!E39)","v":0},{"$f":"SUM('Табела 2 Јан:Табела 2 Јун'!F39)","v":0},{"$f":"SUM('Табела 2 Јан:Табела 2 Јун'!G39)","v":0},{"$f":"SUM('Табела 2 Јан:Табела 2 Јун'!H39)","v":0},{"$f":"SUM('Табела 2 Јан:Табела 2 Јун'!I39)","v":0},0,{"$f":"SUM('Табела 2 Јан:Табела 2 Јун'!K39)","v":0},{"$f":"SUM('Табела 2 Јан:Табела 2 Јун'!L39)","v":0},0]
[33,"Василево",{"$f":"SUM('Табела 2 Јан:Табела 2 Јун'!C40)","v":0},{"$f":"SUM('Табела 2 Јан:Табела 2 Јун'!D40)","v":0},{"$f":"SUM('Табела 2 Јан:Табела 2 Јун'!E40)","v":0},{"$f":"SUM('Табела 2 Јан:Табела 2 Јун'!F40)","v":0},{"$f":"SUM('Табела 2 Јан:Табела 2 Јун'!G40)","v":0},{"$f":"SUM('Табела 2 Јан:Табела 2 Јун'!H40)","v":0},{"$f":"SUM('Табела 2 Јан:Табела 2 Јун'!I40)","v":0},0,{"$f":"SUM('Табела 2 Јан:Табела 2 Јун'!K40)","v":0},{"$f":"SUM('Табела 2 Јан:Табела 2 Јун'!L40)","v":0},0]
[34,"Гевгелија",{"$f":"SUM('Табела 2 Јан:Табела 2 Јун'!C41)","v":0},{"$f":"SUM('Табела 2 Јан:Табела 2 Јун'!D41)","v":0},{"$f":"SUM('Табела 2 Јан:Табела 2 Јун'!E41)","v":0},{"$f":"SUM('Табела 2 Јан:Табела 2 Јун'!F41)","v":0},{"$f":"SUM('Табела 2 Јан:Табела 2 Јун'!G41)","v":0},{"$f":"SUM('Табела 2 Јан:Табела 2 Јун'!H41)","v":0},{"$f":"SUM('Табела 2 Јан:Табела 2 Јун'!I41)","v":0},0,{"$f":"SUM('Табела 2 Јан:Табела 2 Јун'!K41)","v":0},{"$f":"SUM('Табела 2 Јан:Табела 2 Јун'!L41)","v":0},0]
[35,"Дојран",{"$f":"SUM('Табела 2 Јан:Табела 2 Јун'!C42)","v":0},{"$f":"SUM('Табела 2 Јан:Табела 2 Јун'!D42)","v":0},{"$f":"SUM('Табела 2 Јан:Табела 2 Јун'!E42)","v":0},{"$f":"SUM('Табела 2 Јан:Табела 2 Јун'!F42)","v":0},{"$f":"SUM('Табела 2 Јан:Табела 2 Јун'!G42)","v":0},{"$f":"SUM('Табела 2 Јан:Табела 2 Јун'!H42)","v":0},{"$f":"SUM('Табела 2 Јан:Табела 2 Јун'!I42)","v":0},0,{"$f":"SUM('Табела 2 Јан:Табела 2 Јун'!K42)","v":0},{"$f":"SUM('Табела 2 Јан:Табела 2 Јун'!L42)","v":0},0]
[36,"Конче",{"$f":"SUM('Табела 2 Јан:Табела 2 Јун'!C43)","v":0},{"$f":"SUM('Табела 2 Јан:Табела 2 Јун'!D43)","v":0},{"$f":"SUM('Табела 2 Јан:Табела 2 Јун'!E43)","v":0},{"$f":"SUM('Табела 2 Јан:Табела 2 Јун'!F43)","v":0},{"$f":"SUM('Табела 2 Јан:Табела 2 Јун'!G43)","v":0},{"$f":"SUM('Табела 2 Јан:Табела 2 Јун'!H43)","v":0},{"$f":"SUM('Табела 2 Јан:Табела 2 Јун'!I43)","v":0},0,{"$f":"SUM('Табела 2 Јан:Табела 2 Јун'!K43)","v":0},{"$f":"SUM('Табела 2 Јан:Табела 2 Јун'!L43)","v":0},0]
[37,"Ново Село",{"$f":"SUM('Табела 2 Јан:Табела 2 Јун'!C44)","v":0},{"$f":"SUM('Табела 2 Јан:Табела 2 Јун'!D44)","v":0},{"$f":"SUM('Табела 2 Јан:Табела 2 Јун'!E44)","v":0},{"$f":"SUM('Табела 2 Јан:Табела 2 Јун'!F44)","v":0},{"$f":"SUM('Табела 2 Јан:Табела 2 Јун'!G44)","v":0},{"$f":"SUM('Табела 2 Јан:Табела 2 Јун'!H44)","v":0},{"$f":"SUM('Табела 2 Јан:Табела 2 Јун'!I44)","v":0},0,{"$f":"SUM('Табела 2 Јан:Табела 2 Јун'!K44)","v":0},{"$f":"SUM('Табела 2 Јан:Табела 2 Јун'!L44)","v":0},0]
[38,"Радовиш",{"$f":"SUM('Табела 2 Јан:Табела 2 Јун'!C45)","v":0},{"$f":"SUM('Табела 2 Јан:Табела 2 Јун'!D45)","v":0},{"$f":"SUM('Табела 2 Јан:Табела 2 Јун'!E45)","v":0},{"$f":"SUM('Табела 2 Јан:Табела 2 Јун'!F45)","v":0},{"$f":"SUM('Табела 2 Јан:Табела 2 Јун'!G45)","v":4},{"$f":"SUM('Табела 2 Јан:Табела 2 Јун'!H45)","v":0},{"$f":"SUM('Табела 2 Јан:Табела 2 Јун'!I45)","v":0},4,{"$f":"SUM('Табела 2 Јан:Табела 2 Јун'!K45)","v":0},{"$f":"SUM('Табела 2 Јан:Табела 2 Јун'!L45)","v":0},4]
[39,"Струмица",{"$f":"SUM('Табела 2 Јан:Табела 2 Јун'!C46)","v":0},{"$f":"SUM('Табела 2 Јан:Табела 2 Јун'!D46)","v":0},{"$f":"SUM('Табела 2 Јан:Табела 2 Јун'!E46)","v":0},{"$f":"SUM('Табела 2 Јан:Табела 2 Јун'!F46)","v":0},{"$f":"SUM('Табела 2 Јан:Табела 2 Јун'!G46)","v":0},{"$f":"SUM('Табела 2 Јан:Табела 2 Јун'!H46)","v":0},{"$f":"SUM('Табела 2 Јан:Табела 2 Јун'!I46)","v":0},0,{"$f":"SUM('Табела 2 Јан:Табела 2 Јун'!K46)","v":0},{"$f":"SUM('Табела 2 Јан:Табела 2 Јун'!L46)","v":0},0]
[null,"Пелагониски регион",{"$f":"SUM(C48:C56)","v":0},{"$f":"SUM(D48:D56)","v":0},0,0,1,0,0,1,0,1,2]
[40,"Битола",{"$f":"SUM('Табела 2 Јан:Табела 2 Јун'!C48)","v":0},{"$f":"SUM('Табела 2 Јан:Табела 2 Јун'!D48)","v":0},{"$f":"SUM('Табела 2 Јан:Табела 2 Јун'!E48)","v":0},{"$f":"SUM('Табела 2 Јан:Табела 2 Јун'!F48)","v":0},{"$f":"SUM('Табела 2 Јан:Табела 2 Јун'!G48)","v":1},{"$f":"SUM('Табела 2 Јан:Табела 2 Јун'!H48)","v":0},{"$f":"SUM('Табела 2 Јан:Табела 2 Јун'!I48)","v":0},1,{"$f":"SUM('Табела 2 Јан:Табела 2 Јун'!K48)","v":0},{"$f":"SUM('Табела 2 Јан:Табела 2 Јун'!L48)","v":1},2]
[41,"Демир Хисар",{"$f":"SUM('Табела 2 Јан:Табела 2 Јун'!C49)","v":0},{"$f":"SUM('Табела 2 Јан:Табела 2 Јун'!D49)","v":0},{"$f":"SUM('Табела 2 Јан:Табела 2 Јун'!E49)","v":0},{"$f":"SUM('Табела 2 Јан:Табела 2 Јун'!F49)","v":0},{"$f":"SUM('Табела 2 Јан:Табела 2 Јун'!G49)","v":0},{"$f":"SUM('Табела 2 Јан:Табела 2 Јун'!H49)","v":0},{"$f":"SUM('Табела 2 Јан:Табела 2 Јун'!I49)","v":0},0,{"$f":"SUM('Табела 2 Јан:Табела 2 Јун'!K49)","v":0},{"$f":"SUM('Табела 2 Јан:Табела 2 Јун'!L49)","v":0},0]
[42,"Долнени",{"$f":"SUM('Табела 2 Јан:Табела 2 Јун'!C50)","v":0},{"$f":"SUM('Табела 2 Јан:Табела 2 Јун'!D50)","v":0},{"$f":"SUM('Табела 2 Јан:Табела 2 Јун'!E50)","v":0},{"$f":"SUM('Табела 2 Јан:Табела 2 Јун'!F50)","v":0},{"$f":"SUM('Табела 2 Јан:Табела 2 Јун'!G50)","v":0},{"$f":"SUM('Табела 2 Јан:Табела 2 Јун'!H50)","v":0},{"$f":"SUM('Табела 2 Јан:Табела 2 Јун'!I50)","v":0},0,{"$f":"SUM('Табела 2 Јан:Табела 2 Јун'!K50)","v":0},{"$f":"SUM('Табела 2 Јан:Табела 2 Јун'!L50)","v":0},0]
[43,"Кривогаштани",{"$f":"SUM('Табела 2 Јан:Табела 2 Јун'!C51)","v":0},{"$f":"SUM('Табела 2 Јан:Табела 2 Јун'!D51)","v":0},{"$f":"SUM('Табела 2 Јан:Табела 2 Јун'!E51)","v":0},{"$f":"SUM('Табела 2 Јан:Табела 2 Јун'!F51)","v":0},{"$f":"SUM('Табела 2 Јан:Табела 2 Јун'!G51)","v":0},{"$f":"SUM('Табела 2 Јан:Табела 2 Јун'!H51)","v":0},{"$f":"SUM('Табела 2 Јан:Табела 2 Јун'!I51)","v":0},0,{"$f":"SUM('Табела 2 Јан:Табела 2 Јун'!K51)","v":0},{"$f":"SUM('Табела 2 Јан:Табела 2 Јун'!L51)","v":0},0]
[44,"Крушево",{"$f":"SUM('Табела 2 Јан:Табела 2 Јун'!C52)","v":0},{"$f":"SUM('Табела 2 Јан:Табела 2 Јун'!D52)","v":0},{"$f":"SUM('Табела 2 Јан:Табела 2 Јун'!E52)","v":0},{"$f":"SUM('Табела 2 Јан:Табела 2 Јун'!F52)","v":0},{"$f":"SUM('Табела 2 Јан:Табела 2 Јун'!G52)","v":0},{"$f":"SUM('Табела 2 Јан:Табела 2 Јун'!H52)","v":0},{"$f":"SUM('Табела 2 Јан:Табела 2 Јун'!I52)","v":0},0,{"$f":"SUM('Табела 2 Јан:Табела 2 Јун'!K52)","v":0},{"$f":"SUM('Табела 2 Јан:Табела 2 Јун'!L52)","v":0},0]
[45,"Могила",{"$f":"SUM('Табела 2 Јан:Табела 2 Јун'!C53)","v":0},{"$f":"SUM('Табела 2 Јан:Табела 2 Јун'!D53)","v":0},{"$f":"SUM('Табела 2 Јан:Табела 2 Јун'!E53)","v":0},{"$f":"SUM('Табела 2 Јан:Табела 2 Јун'!F53)","v":0},{"$f":"SUM('Табела 2 Јан:Табела 2 Јун'!G53)","v":0},{"$f":"SUM('Табела 2 Јан:Табела 2 Јун'!H53)","v":0},{"$f":"SUM('Табела 2 Јан:Табела 2 Јун'!I53)","v":0},0,{"$f":"SUM('Табела 2 Јан:Табела 2 Јун'!K53)","v":0},{"$f":"SUM('Табела 2 Јан:Табела 2 Јун'!L53)","v":0},0]
[46,"Новаци",{"$f":"SUM('Табела 2 Јан:Табела 2 Јун'!C54)","v":0},{"$f":"SUM('Табела 2 Јан:Табела 2 Јун'!D54)","v":0},{"$f":"SUM('Табела 2 Јан:Табела 2 Јун'!E54)","v":0},{"$f":"SUM('Табела 2 Јан:Табела 2 Јун'!F54)","v":0},{"$f":"SUM('Табела 2 Јан:Табела 2 Јун'!G54)","v":0},{"$f":"SUM('Табела 2 Јан:Табела 2 Јун'!H54)","v":0},{"$f":"SUM('Табела 2 Јан:Табела 2 Јун'!I54)","v":0},0,{"$f":"SUM('Табела 2 Јан:Табела 2 Јун'!K54)","v":0},{"$f":"SUM('Табела 2 Јан:Табела 2 Јун'!L54)","v":0},0]
[47,"Прилеп",{"$f":"SUM('Табела 2 Јан:Табела 2 Јун'!C55)","v":0},{"$f":"SUM('Табела 2 Јан:Табела 2 Јун'!D55)","v":0},{"$f":"SUM('Табела 2 Јан:Табела 2 Јун'!E55)","v":0},{"$f":"SUM('Табела 2 Јан:Табела 2 Јун'!F55)","v":0},{"$f":"SUM('Табела 2 Јан:Табела 2 Јун'!G55)","v":0},{"$f":"SUM('Табела 2 Јан:Табела 2 Јун'!H55)","v":0},{"$f":"SUM('Табела 2 Јан:Табела 2 Јун'!I55)","v":0},0,{"$f":"SUM('Табела 2 Јан:Табела 2 Јун'!K55)","v":0},{"$f":"SUM('Табела 2 Јан:Табела 2 Јун'!L55)","v":0},0]
[48,"Ресен",{"$f":"SUM('Табела 2 Јан:Табела 2 Јун'!C56)","v":0},{"$f":"SUM('Табела 2 Јан:Табела 2 Јун'!D56)","v":0},{"$f":"SUM('Табела 2 Јан:Табела 2 Јун'!E56)","v":0},{"$f":"SUM('Табела 2 Јан:Табела 2 Јун'!F56)","v":0},{"$f":"SUM('Табела 2 Јан:Табела 2 Јун'!G56)","v":0},{"$f":"SUM('Табела 2 Јан:Табела 2 Јун'!H56)","v":0},{"$f":"SUM('Табела 2 Јан:Табела 2 Јун'!I56)","v":0},0,{"$f":"SUM('Табела 2 Јан:Табела 2 Јун'!K56)","v":0},{"$f":"SUM('Табела 2 Јан:Табела 2 Јун'!L56)","v":0},0]
[null,"Полошки регион",{"$f":"SUM(C58:C66)","v":0},{"$f":"SUM(D58:D66)","v":0},0,0,20,0,0,20,22,0,42]
[49,"Боговиње",{"$f":"SUM('Табела 2 Јан:Табела 2 Јун'!C58)","v":0},{"$f":"SUM('Табела 2 Јан:Табела 2 Јун'!D58)","v":0},{"$f":"SUM('Табела 2 Јан:Табела 2 Јун'!E58)","v":0},{"$f":"SUM('Табела 2 Јан:Табела 2 Јун'!F58)","v":0},{"$f":"SUM('Табела 2 Јан:Табела 2 Јун'!G58)","v":0},{"$f":"SUM('Табела 2 Јан:Табела 2 Јун'!H58)","v":0},{"$f":"SUM('Табела 2 Јан:Табела 2 Јун'!I58)","v":0},0,{"$f":"SUM('Табела 2 Јан:Табела 2 Јун'!K58)","v":0},{"$f":"SUM('Табела 2 Јан:Табела 2 Јун'!L58)","v":0},0]
[50,"Бревеница",{"$f":"SUM('Табела 2 Јан:Табела 2 Јун'!C59)","v":0},{"$f":"SUM('Табела 2 Јан:Табела 2 Јун'!D59)","v":0},{"$f":"SUM('Табела 2 Јан:Табела 2 Јун'!E59)","v":0},{"$f":"SUM('Табела 2 Јан:Табела 2 Јун'!F59)","v":0},{"$f":"SUM('Табела 2 Јан:Табела 2 Јун'!G59)","v":0},{"$f":"SUM('Табела 2 Јан:Табела 2 Јун'!H59)","v":0},{"$f":"SUM('Табела 2 Јан:Табела 2 Јун'!I59)","v":0},0,{"$f":"SUM('Табела 2 Јан:Табела 2 Јун'!K59)","v":2},{"$f":"SUM('Табела 2 Јан:Табела 2 Јун'!L59)","v":0},2]
[51,"Врапчиште",{"$f":"SUM('Табела 2 Јан:Табела 2 Јун'!C60)","v":0},{"$f":"SUM('Табела 2 Јан:Табела 2 Јун'!D60)","v":0},{"$f":"SUM('Табела 2 Јан:Табела 2 Јун'!E60)","v":0},{"$f":"SUM('Табела 2 Јан:Табела 2 Јун'!F60)","v":0},{"$f":"SUM('Табела 2 Јан:Табела 2 Јун'!G60)","v":0},{"$f":"SUM('Табела 2 Јан:Табела 2 Јун'!H60)","v":0},{"$f":"SUM('Табела 2 Јан:Табела 2 Јун'!I60)","v":0},0,{"$f":"SUM('Табела 2 Јан:Табела 2 Јун'!K60)","v":0},{"$f":"SUM('Табела 2 Јан:Табела 2 Јун'!L60)","v":0},0]
[52,"Гостивар",{"$f":"SUM('Табела 2 Јан:Табела 2 Јун'!C61)","v":0},{"$f":"SUM('Табела 2 Јан:Табела 2 Јун'!D61)","v":0},{"$f":"SUM('Табела 2 Јан:Табела 2 Јун'!E61)","v":0},{"$f":"SUM('Табела 2 Јан:Табела 2 Јун'!F61)","v":0},{"$f":"SUM('Табела 2 Јан:Табела 2 Јун'!G61)","v":10},{"$f":"SUM('Табела 2 Јан:Табела 2 Јун'!H61)","v":0},{"$f":"SUM('Табела 2 Јан:Табела 2 Јун'!I61)","v":0},10,{"$f":"SUM('Табела 2 Јан:Табела 2 Јун'!K61)","v":0},{"$f":"SUM('Табела 2 Јан:Табела 2 Јун'!L61)","v":0},10]
[53,"Желино",{"$f":"SUM('Табела 2 Јан:Табела 2 Јун'!C62)","v":0},{"$f":"SUM('Табела 2 Јан:Табела 2 Јун'!D62)","v":0},{"$f":"SUM('Табела 2 Јан:Табела 2 Јун'!E62)","v":0},{"$f":"SUM('Табела 2 Јан:Табела 2 Јун'!F62)","v":0},{"$f":"SUM('Табела 2 Јан:Табела 2 Јун'!G62)","v":0},{"$f":"SUM('Табела 2 Јан:Табела 2 Јун'!H62)","v":0},{"$f":"SUM('Табела 2 Јан:Табела 2 Јун'!I62)","v":0},0,{"$f":"SUM('Табела 2 Јан:Табела 2 Јун'!K62)","v":0},{"$f":"SUM('Табела 2 Јан:Табела 2 Јун'!L62)","v":0},0]
[54,"Јегуновце",{"$f":"SUM('Табела 2 Јан:Табела 2 Јун'!C63)","v":0},{"$f":"SUM('Табела 2 Јан:Табела 2 Јун'!D63)","v":0},{"$f":"SUM('Табела 2 Јан:Табела 2 Јун'!E63)","v":0},{"$f":"SUM('Табела 2 Јан:Табела 2 Јун'!F63)","v":0},{"$f":"SUM('Табела 2 Јан:Табела 2 Јун'!G63)","v":0},{"$f":"SUM('Табела 2 Јан:Табела 2 Јун'!H63)","v":0},{"$f":"SUM('Табела 2 Јан:Табела 2 Јун'!I63)","v":0},0,{"$f":"SUM('Табела 2 Јан:Табела 2 Јун'!K63)","v":2},{"$f":"SUM('Табела 2 Јан:Табела 2 Јун'!L63)","v":0},2]
[55,"Маврово и Ростуша",{"$f":"SUM('Табела 2 Јан:Табела 2 Јун'!C64)","v":0},{"$f":"SUM('Табела 2 Јан:Табела 2 Јун'!D64)","v":0},{"$f":"SUM('Табела 2 Јан:Табела 2 Јун'!E64)","v":0},{"$f":"SUM('Табела 2 Јан:Табела 2 Јун'!F64)","v":0},{"$f":"SUM('Табела 2 Јан:Табела 2 Јун'!G64)","v":0},{"$f":"SUM('Табела 2 Јан:Табела 2 Јун'!H64)","v":0},{"$f":"SUM('Табела 2 Јан:Табела 2 Јун'!I64)","v":0},0,{"$f":"SUM('Табела 2 Јан:Табела 2 Јун'!K64)","v":0},{"$f":"SUM('Табела 2 Јан:Табела 2 Јун'!L64)","v":0},0]
[56,"Теарце",{"$f":"SUM('Табела 2 Јан:Табела 2 Јун'!C65)","v":0},{"$f":"SUM('Табела 2 Јан:Табела 2 Јун'!D65)","v":0},{"$f":"SUM('Табела 2 Јан:Табела 2 Јун'!E65)","v":0},{"$f":"SUM('Табела 2 Јан:Табела 2 Јун'!F65)","v":0},{"$f":"SUM('Табела 2 Јан:Табела 2 Јун'!G65)","v":0},{"$f":"SUM('Табела 2 Јан:Табела 2 Јун'!H65)","v":0},{"$f":"SUM('Табела 2 Јан:Табела 2 Јун'!I65)","v":0},0,{"$f":"SUM('Табела 2 Јан:Табела 2 Јун'!K65)","v":0},{"$f":"SUM('Табела 2 Јан:Табела 2 Јун'!L65)","v":0},0]
[57,"Тетово",{"$f":"SUM('Табела 2 Јан:Табела 2 Јун'!C66)","v":0},{"$f":"SUM('Табела 2 Јан:Табела 2 Јун'!D66)","v":0},{"$f":"SUM('Табела 2 Јан:Табела 2 Јун'!E66)","v":0},{"$f":"SUM('Табела 2 Јан:Табела 2 Јун'!F66)","v":0},{"$f":"SUM('Табела 2 Јан:Табела 2 Јун'!G66)","v":10},{"$f":"SUM('Табела 2 Јан:Табела 2 Јун'!H66)","v":0},{"$f":"SUM('Табела 2 Јан:Табела 2 Јун'!I66)","v":0},10,{"$f":"SUM('Табела 2 Јан:Табела 2 Јун'!K66)","v":18},{"$f":"SUM('Табела 2 Јан:Табела 2 Јун'!L66)","v":0},28]
[null,"Североисточен регион",{"$f":"SUM(C68:C73)","v":0},{"$f":"SUM(D68:D73)","v":0},0,0,11,0,0,11,22,0,33]
[58,"Кратово",{"$f":"SUM('Табела 2 Јан:Табела 2 Јун'!C68)","v":0},{"$f":"SUM('Табела 2 Јан:Табела 2 Јун'!D68)","v":0},{"$f":"SUM('Табела 2 Јан:Табела 2 Јун'!E68)","v":0},{"$f":"SUM('Табела 2 Јан:Табела 2 Јун'!F68)","v":0},{"$f":"SUM('Табела 2 Јан:Табела 2 Јун'!G68)","v":0},{"$f":"SUM('Табела 2 Јан:Табела 2 Јун'!H68)","v":0},{"$f":"SUM('Табела 2 Јан:Табела 2 Јун'!I68)","v":0},0,{"$f":"SUM('Табела 2 Јан:Табела 2 Јун'!K68)","v":0},{"$f":"SUM('Табела 2 Јан:Табела 2 Јун'!L68)","v":0},0]
[59,"Крива Паланка",{"$f":"SUM('Табела 2 Јан:Табела 2 Јун'!C69)","v":0},{"$f":"SUM('Табела 2 Јан:Табела 2 Јун'!D69)","v":0},{"$f":"SUM('Табела 2 Јан:Табела 2 Јун'!E69)","v":0},{"$f":"SUM('Табела 2 Јан:Табела 2 Јун'!F69)","v":0},{"$f":"SUM('Табела 2 Јан:Табела 2 Јун'!G69)","v":0},{"$f":"SUM('Табела 2 Јан:Табела 2 Јун'!H69)","v":0},{"$f":"SUM('Табела 2 Јан:Табела 2 Јун'!I69)","v":0},0,{"$f":"SUM('Табела 2 Јан:Табела 2 Јун'!K69)","v":0},{"$f":"SUM('Табела 2 Јан:Табела 2 Јун'!L69)","v":0},0]
[60,"Куманово",{"$f":"SUM('Табела 2 Јан:Табела 2 Јун'!C70)","v":0},{"$f":"SUM('Табела 2 Јан:Табела 2 Јун'!D70)","v":0},{"$f":"SUM('Табела 2 Јан:Табела 2 Јун'!E70)","v":0},{"$f":"SUM('Табела 2 Јан:Табела 2 Јун'!F70)","v":0},{"$f":"SUM('Табела 2 Јан:Табела 2 Јун'!G70)","v":11},{"$f":"SUM('Табела 2 Јан:Табела 2 Јун'!H70)","v":0},{"$f":"SUM('Табела 2 Јан:Табела 2 Јун'!I70)","v":0},{"$f":"SUM(E70:I70)","v":11},{"$f":"SUM('Табела 2 Јан:Табела 2 Јун'!K70)","v":20},{"$f":"SUM('Табела 2 Јан:Табела 2 Јун'!L70)","v":0},{"$f":"SUM(J70:L70)","v":31}]
[61,"Липково",{"$f":"SUM('Табела 2 Јан:Табела 2 Јун'!C71)","v":0},{"$f":"SUM('Табела 2 Јан:Табела 2 Јун'!D71)","v":0},{"$f":"SUM('Табела 2 Јан:Табела 2 Јун'!E71)","v":0},{"$f":"SUM('Табела 2 Јан:Табела 2 Јун'!F71)","v":0},{"$f":"SUM('Табела 2 Јан:Табела 2 Јун'!G71)","v":0},{"$f":"SUM('Табела 2 Јан:Табела 2 Јун'!H71)","v":0},{"$f":"SUM('Табела 2 Јан:Табела 2 Јун'!I71)","v":0},0,{"$f":"SUM('Табела 2 Јан:Табела 2 Јун'!K71)","v":2},{"$f":"SUM('Табела 2 Јан:Табела 2 Јун'!L71)","v":0},2]
[62,"Ранковце",{"$f":"SUM('Табела 2 Јан:Табела 2 Јун'!C72)","v":0},{"$f":"SUM('Табела 2 Јан:Табела 2 Јун'!D72)","v":0},{"$f":"SUM('Табела 2 Јан:Табела 2 Јун'!E72)","v":0},{"$f":"SUM('Табела 2 Јан:Табела 2 Јун'!F72)","v":0},{"$f":"SUM('Табела 2 Јан:Табела 2 Јун'!G72)","v":0},{"$f":"SUM('Табела 2 Јан:Табела 2 Јун'!H72)","v":0},{"$f":"SUM('Табела 2 Јан:Табела 2 Јун'!I72)","v":0},0,{"$f":"SUM('Табела 2 Јан:Табела 2 Јун'!K72)","v":0},{"$f":"SUM('Табела 2 Јан:Табела 2 Јун'!L72)","v":0},0]
[63,"Старо Нагоричане",{"$f":"SUM('Табела 2 Јан:Табела 2 Јун'!C73)","v":0},{"$f":"SUM('Табела 2 Јан:Табела 2 Јун'!D73)","v":0},{"$f":"SUM('Табела 2 Јан:Табела 2 Јун'!E73)","v":0},{"$f":"SUM('Табела 2 Јан:Табела 2 Јун'!F73)","v":0},{"$f":"SUM('Табела 2 Јан:Табела 2 Јун'!G73)","v":0},{"$f":"SUM('Табела 2 Јан:Табела 2 Јун'!H73)","v":0},{"$f":"SUM('Табела 2 Јан:Табела 2 Јун'!I73)","v":0},0,{"$f":"SUM('Табела 2 Јан:Табела 2 Јун'!K73)","v":0},{"$f":"SUM('Табела 2 Јан:Табела 2 Јун'!L73)","v":0},0]
[null,"Скопски регион",{"$f":"SUM(C75:C91)","v":1},{"$f":"SUM(D75:D91)","v":1},0,0,23,0,0,23,61,5,89]
[64,"Аеродром",{"$f":"SUM('Табела 2 Јан:Табела 2 Јун'!C75)","v":0},{"$f":"SUM('Табела 2 Јан:Табела 2 Јун'!D75)","v":0},{"$f":"SUM('Табела 2 Јан:Табела 2 Јун'!E75)","v":0},{"$f":"SUM('Табела 2 Јан:Табела 2 Јун'!F75)","v":0},{"$f":"SUM('Табела 2 Јан:Табела 2 Јун'!G75)","v":7},{"$f":"SUM('Табела 2 Јан:Табела 2 Јун'!H75)","v":0},{"$f":"SUM('Табела 2 Јан:Табела 2 Јун'!I75)","v":0},{"$f":"SUM(E75:I75)","v":7},{"$f":"SUM('Табела 2 Јан:Табела 2 Јун'!K75)","v":7},{"$f":"SUM('Табела 2 Јан:Табела 2 Јун'!L75)","v":0},{"$f":"SUM(J75:L75)","v":14}]
[65,"Арачиново",{"$f":"SUM('Табела 2 Јан:Табела 2 Јун'!C76)","v":0},{"$f":"SUM('Табела 2 Јан:Табела 2 Јун'!D76)","v":0},{"$f":"SUM('Табела 2 Јан:Табела 2 Јун'!E76)","v":0},{"$f":"SUM('Табела 2 Јан:Табела 2 Јун'!F76)","v":0},{"$f":"SUM('Табела 2 Јан:Табела 2 Јун'!G76)","v":0},{"$f":"SUM('Табела 2 Јан:Табела 2 Јун'!H76)","v":0},{"$f":"SUM('Табела 2 Јан:Табела 2 Јун'!I76)","v":0},0,{"$f":"SUM('Табела 2 Јан:Табела 2 Јун'!K76)","v":0},{"$f":"SUM('Табела 2 Јан:Табела 2 Јун'!L76)","v":0},0]
[66,"Бутел",{"$f":"SUM('Табела 2 Јан:Табела 2 Јун'!C77)","v":0},{"$f":"SUM('Табела 2 Јан:Табела 2 Јун'!D77)","v":0},{"$f":"SUM('Табела 2 Јан:Табела 2 Јун'!E77)","v":0},{"$f":"SUM('Табела 2 Јан:Табела 2 Јун'!F77)","v":0},{"$f":"SUM('Табела 2 Јан:Табела 2 Јун'!G77)","v":0},{"$f":"SUM('Табела 2 Јан:Табела 2 Јун'!H77)","v":0},{"$f":"SUM('Табела 2 Јан:Табела 2 Јун'!I77)","v":0},0,{"$f":"SUM('Табела 2 Јан:Табела 2 Јун'!K77)","v":10},{"$f":"SUM('Табела 2 Јан:Табела 2 Јун'!L77)","v":0},10]
[67,"Гази Баба",{"$f":"SUM('Табела 2 Јан:Табела 2 Јун'!C78)","v":0},{"$f":"SUM('Табела 2 Јан:Табела 2 Јун'!D78)","v":0},{"$f":"SUM('Табела 2 Јан:Табела 2 Јун'!E78)","v":0},{"$f":"SUM('Табела 2 Јан:Табела 2 Јун'!F78)","v":0},{"$f":"SUM('Табела 2 Јан:Табела 2 Јун'!G78)","v":3},{"$f":"SUM('Табела 2 Јан:Табела 2 Јун'!H78)","v":0},{"$f":"SUM('Табела 2 Јан:Табела 2 Јун'!I78)","v":0},3,{"$f":"SUM('Табела 2 Јан:Табела 2 Јун'!K78)","v":2},{"$f":"SUM('Табела 2 Јан:Табела 2 Јун'!L78)","v":0},5]
[68,"Ѓорче Петров",{"$f":"SUM('Табела 2 Јан:Табела 2 Јун'!C79)","v":0},{"$f":"SUM('Табела 2 Јан:Табела 2 Јун'!D79)","v":0},{"$f":"SUM('Табела 2 Јан:Табела 2 Јун'!E79)","v":0},{"$f":"SUM('Табела 2 Јан:Табела 2 Јун'!F79)","v":0},{"$f":"SUM('Табела 2 Јан:Табела 2 Јун'!G79)","v":3},{"$f":"SUM('Табела 2 Јан:Табела 2 Јун'!H79)","v":0},{"$f":"SUM('Табела 2 Јан:Табела 2 Јун'!I79)","v":0},3,{"$f":"SUM('Табела 2 Јан:Табела 2 Јун'!K79)","v":1},{"$f":"SUM('Табела 2 Јан:Табела 2 Јун'!L79)","v":0},4]
[69,"Зелениково",{"$f":"SUM('Табела 2 Јан:Табела 2 Јун'!C80)","v":0},{"$f":"SUM('Табела 2 Јан:Табела 2 Јун'!D80)","v":0},{"$f":"SUM('Табела 2 Јан:Табела 2 Јун'!E80)","v":0},{"$f":"SUM('Табела 2 Јан:Табела 2 Јун'!F80)","v":0},{"$f":"SUM('Табела 2 Јан:Табела 2 Јун'!G80)","v":0},{"$f":"SUM('Табела 2 Јан:Табела 2 Јун'!H80)","v":0},{"$f":"SUM('Табела 2 Јан:Табела 2 Јун'!I80)","v":0},0,{"$f":"SUM('Табела 2 Јан:Табела 2 Јун'!K80)","v":0},{"$f":"SUM('Табела 2 Јан:Табела 2 Јун'!L80)","v":0},0]
[70,"Илинден",{"$f":"SUM('Табела 2 Јан:Табела 2 Јун'!C81)","v":0},{"$f":"SUM('Табела 2 Јан:Табела 2 Јун'!D81)","v":0},{"$f":"SUM('Табела 2 Јан:Табела 2 Јун'!E81)","v":0},{"$f":"SUM('Табела 2 Јан:Табела 2 Јун'!F81)","v":0},{"$f":"SUM('Табела 2 Јан:Табела 2 Јун'!G81)","v":2},{"$f":"SUM('Табела 2 Јан:Табела 2 Јун'!H81)","v":0},{"$f":"SUM('Табела 2 Јан:Табела 2 Јун'!I81)","v":0},2,{"$f":"SUM('Табела 2 Јан:Табела 2 Јун'!K81)","v":0},{"$f":"SUM('Табела 2 Јан:Табела 2 Јун'!L81)","v":0},2]
[71,"Карпош",{"$f":"SUM('Табела 2 Јан:Табела 2 Јун'!C82)","v":0},{"$f":"SUM('Табела 2 Јан:Табела 2 Јун'!D82)","v":0},{"$f":"SUM('Табела 2 Јан:Табела 2 Јун'!E82)","v":0},{"$f":"SUM('Табела 2 Јан:Табела 2 Јун'!F82)","v":0},{"$f":"SUM('Табела 2 Јан:Табела 2 Јун'!G82)","v":5},{"$f":"SUM('Табела 2 Јан:Табела 2 Јун'!H82)","v":0},{"$f":"SUM('Табела 2 Јан:Табела 2 Јун'!I82)","v":0},5,{"$f":"SUM('Табела 2 Јан:Табела 2 Јун'!K82)","v":21},{"$f":"SUM('Табела 2 Јан:Табела 2 Јун'!L82)","v":0},26]
[72,"Кисела Вода",{"$f":"SUM('Табела 2 Јан:Табела 2 Јун'!C83)","v":0},{"$f":"SUM('Табела 2 Јан:Табела 2 Јун'!D83)","v":0},{"$f":"SUM('Табела 2 Јан:Табела 2 Јун'!E83)","v":0},{"$f":"SUM('Табела 2 Јан:Табела 2 Јун'!F83)","v":0},{"$f":"SUM('Табела 2 Јан:Табела 2 Јун'!G83)","v":0},{"$f":"SUM('Табела 2 Јан:Табела 2 Јун'!H83)","v":0},{"$f":"SUM('Табела 2 Јан:Табела 2 Јун'!I83)","v":0},0,{"$f":"SUM('Табела 2 Јан:Табела 2 Јун'!K83)","v":5},{"$f":"SUM('Табела 2 Јан:Табела 2 Јун'!L83)","v":0},5]
[73,"Петровец",{"$f":"SUM('Табела 2 Јан:Табела 2 Јун'!C84)","v":0},{"$f":"SUM('Табела 2 Јан:Табела 2 Јун'!D84)","v":0},{"$f":"SUM('Табела 2 Јан:Табела 2 Јун'!E84)","v":0},{"$f":"SUM('Табела 2 Јан:Табела 2 Јун'!F84)","v":0},{"$f":"SUM('Табела 2 Јан:Табела 2 Јун'!G84)","v":0},{"$f":"SUM('Табела 2 Јан:Табела 2 Јун'!H84)","v":0},{"$f":"SUM('Табела 2 Јан:Табела 2 Јун'!I84)","v":0},0,{"$f":"SUM('Табела 2 Јан:Табела 2 Јун'!K84)","v":0},{"$f":"SUM('Табела 2 Јан:Табела 2 Јун'!L84)","v":0},0]
[74,"Сарај",{"$f":"SUM('Табела 2 Јан:Табела 2 Јун'!C85)","v":1},{"$f":"SUM('Табела 2 Јан:Табела 2 Јун'!D85)","v":1},{"$f":"SUM('Табела 2 Јан:Табела 2 Јун'!E85)","v":0},{"$f":"SUM('Табела 2 Јан:Табела 2 Јун'!F85)","v":0},{"$f":"SUM('Табела 2 Јан:Табела 2 Јун'!G85)","v":3},{"$f":"SUM('Табела 2 Јан:Табела 2 Јун'!H85)","v":0},{"$f":"SUM('Табела 2 Јан:Табела 2 Јун'!I85)","v":0},3,{"$f":"SUM('Табела 2 Јан:Табела 2 Јун'!K85)","v":1},{"$f":"SUM('Табела 2 Јан:Табела 2 Јун'!L85)","v":0},4]
[75,"Сопиште",{"$f":"SUM('Табела 2 Јан:Табела 2 Јун'!C86)","v":0},{"$f":"SUM('Табела 2 Јан:Табела 2 Јун'!D86)","v":0},{"$f":"SUM('Табела 2 Јан:Табела 2 Јун'!E86)","v":0},{"$f":"SUM('Табела 2 Јан:Табела 2 Јун'!F86)","v":0},{"$f":"SUM('Табела 2 Јан:Табела 2 Јун'!G86)","v":0},{"$f":"SUM('Табела 2 Јан:Табела 2 Јун'!H86)","v":0},{"$f":"SUM('Табела 2 Јан:Табела 2 Јун'!I86)","v":0},0,{"$f":"SUM('Табела 2 Јан:Табела 2 Јун'!K86)","v":0},{"$f":"SUM('Табела 2 Јан:Табела 2 Јун'!L86)","v":0},0]
[76,"Студеничани",{"$f":"SUM('Табела 2 Јан:Табела 2 Јун'!C87)","v":0},{"$f":"SUM('Табела 2 Јан:Табела 2 Јун'!D87)","v":0},{"$f":"SUM('Табела 2 Јан:Табела 2 Јун'!E87)","v":0},{"$f":"SUM('Табела 2 Јан:Табела 2 Јун'!F87)","v":0},{"$f":"SUM('Табела 2 Јан:Табела 2 Јун'!G87)","v":0},{"$f":"SUM('Табела 2 Јан:Табела 2 Јун'!H87)","v":0},{"$f":"SUM('Табела 2 Јан:Табела 2 Јун'!I87)","v":0},0,{"$f":"SUM('Табела 2 Јан:Табела 2 Јун'!K87)","v":0},{"$f":"SUM('Табела 2 Јан:Табела 2 Јун'!L87)","v":0},0]
[77,"Центар",{"$f":"SUM('Табела 2 Јан:Табела 2 Јун'!C88)","v":0},{"$f":"SUM('Табела 2 Јан:Табела 2 Јун'!D88)","v":0},{"$f":"SUM('Табела 2 Јан:Табела 2 Јун'!E88)","v":0},{"$f":"SUM('Табела 2 Јан:Табела 2 Јун'!F88)","v":0},{"$f":"SUM('Табела 2 Јан:Табела 2 Јун'!G88)","v":0},{"$f":"SUM('Табела 2 Јан:Табела 2 Јун'!H88)","v":0},{"$f":"SUM('Табела 2 Јан:Табела 2 Јун'!I88)","v":0},0,{"$f":"SUM('Табела 2 Јан:Табела 2 Јун'!K88)","v":4},{"$f":"SUM('Табела 2 Јан:Табела 2 Јун'!L88)","v":0},4]
[78,"Чаир",{"$f":"SUM('Табела 2 Јан:Табела 2 Јун'!C89)","v":0},{"$f":"SUM('Табела 2 Јан:Табела 2 Јун'!D89)","v":0},{"$f":"SUM('Табела 2 Јан:Табела 2 Јун'!E89)","v":0},{"$f":"SUM('Табела 2 Јан:Табела 2 Јун'!F89)","v":0},{"$f":"SUM('Табела 2 Јан:Табела 2 Јун'!G89)","v":0},{"$f":"SUM('Табела 2 Јан:Табела 2 Јун'!H89)","v":0},{"$f":"SUM('Табела 2 Јан:Табела 2 Јун'!I89)","v":0},0,{"$f":"SUM('Табела 2 Јан:Табела 2 Јун'!K89)","v":10},{"$f":"SUM('Табела 2 Јан:Табела 2 Јун'!L89)","v":5},15]
[79,"Чучер-Сандево",{"$f":"SUM('Табела 2 Јан:Табела 2 Јун'!C90)","v":0},{"$f":"SUM('Табела 2 Јан:Табела 2 Јун'!D90)","v":0},{"$f":"SUM('Табела 2 Јан:Табела 2 Јун'!E90)","v":0},{"$f":"SUM('Табела 2 Јан:Табела 2 Јун'!F90)","v":0},{"$f":"SUM('Табела 2 Јан:Табела 2 Јун'!G90)","v":0},{"$f":"SUM('Табела 2 Јан:Табела 2 Јун'!H90)","v":0},{"$f":"SUM('Табела 2 Јан:Табела 2 Јун'!I90)","v":0},0,{"$f":"SUM('Табела 2 Јан:Табела 2 Јун'!K90)","v":0},{"$f":"SUM('Табела 2 Јан:Табела 2 Јун'!L90)","v":0},0]
[80,"Шуто Оризари",{"$f":"SUM('Табела 2 Јан:Табела 2 Јун'!C91)","v":0},{"$f":"SUM('Табела 2 Јан:Табела 2 Јун'!D91)","v":0},{"$f":"SUM('Табела 2 Јан:Табела 2 Јун'!E91)","v":0},{"$f":"SUM('Табела 2 Јан:Табела 2 Јун'!F91)","v":0},{"$f":"SUM('Табела 2 Јан:Табела 2 Јун'!G91)","v":0},{"$f":"SUM('Табела 2 Јан:Табела 2 Јун'!H91)","v":0},{"$f":"SUM('Табела 2 Јан:Табела 2 Јун'!I91)","v":0},0,{"$f":"SUM('Табела 2 Јан:Табела 2 Јун'!K91)","v":0},{"$f":"SUM('Табела 2 Јан:Табела 2 Јун'!L91)","v":0},0]
["ВКУПНО",null,{"$f":"SUM(C4,C14,C26,C36,C47,C57,C67,C74)","v":1},{"$f":"SUM(D4,D14,D26,D36,D47,D57,D67,D74)","v":1},0,0,68,0,0,68,107,8,183]

{"sheet":"Табела 2 Јан","index":2,"n_rows":92,"n_cols":13,"rows_kept":92,"merged":[[0,0,0,12],[1,0,2,0],[1,1,2,1],[1,2,1,3],[1,4,1,9],[1,10,2,10],[1,11,2,11],[1,12,2,12],[91,0,91,1]]}
["Табела 2 Преглед на вкупниот број на планирани неправилности и инспекциски надзори според вид во месец [месец], [ГГГГ] година, по региони"]
["Ред.Бр.","Регион","Неправилности",null,"Редовен надзор по коефициент на сложеност",{"$nulls":5},"Вонреден надзор","Контролен надзор","Вкупно надзори"]
[null,null,"Месечен план","Според Год. План","Q1","Q2","Q3","Q4","Q5","Вкупно"]
[null,"Вардарски  регион",{"$f":"SUM(C5:C13)","v":0},{"$f":"SUM(D5:D13)","v":0},0,0,0,0,0,0,1,0,1]
[1,"Велес",{"$nulls":7},{"$f":"SUM(E5:I5)","v":0},null,null,{"$f":"SUM(J5:L5)","v":0}]
[2,"Градско",{"$nulls":7},{"$f":"SUM(E6:I6)","v":0},null,null,{"$f":"SUM(J6:L6)","v":0}]
[3,"Демир Капија",{"$nulls":7},0,null,null,0]
[4,"Кавадарци",{"$nulls":7},0,1,null,1]
[5,"Лозово",{"$nulls":7},0,null,null,0]
[6,"Неготино",{"$nulls":7},0,null,null,0]
[7,"Росоман",{"$nulls":7},0,null,null,0]
[8,"Свети Николе",{"$nulls":7},0,null,null,0]
[9,"Чашка",{"$nulls":7},0,null,null,0]
[null,"Источен регион",{"$f":"SUM(C15:C25)","v":0},{"$f":"SUM(D15:D25)","v":0},0,0,0,0,0,0,0,0,0]
[10,"Берово",{"$nulls":7},0,null,null,0]
[11,"Виница",{"$nulls":7},0,null,null,0]
[12,"Делчево",{"$nulls":7},0,null,null,0]
[13,"Зрновци",{"$nulls":7},0,null,null,0]
[14,"Карбинци",{"$nulls":7},0,null,null,0]
[15,"Кочани",{"$nulls":7},0,null,null,0]
[16,"Македонска Каменица",{"$nulls":7},0,null,null,0]
[17,"Пехчево",{"$nulls":7},0,null,null,0]
[18,"Пробиштип",{"$nulls":7},0,null,null,0]
[19,"Чешиново",{"$nulls":7},0,null,null,0]
[20,"Штип",{"$nulls":7},0,null,null,0]
[null,"Југозападен регион",{"$f":"SUM(C27:C35)","v":0},{"$f":"SUM(D27:D35)","v":0},0,0,0,0,0,0,0,0,0]
[21,"Вевчани",{"$nulls":7},0,null,null,0]
[22,"Дебар",{"$nulls":7},0,null,null,0]
[23,"Дебарца",{"$nulls":7},0,null,null,0]
[24,"Кичево",{"$nulls":7},0,null,null,0]
[25,"Македонски Брод",{"$nulls":7},0,null,null,0]
[26,"Охрид",{"$nulls":7},0,null,null,0]
[27,"Пласница",{"$nulls":7},0,null,null,0]
[28,"Струга",{"$nulls":7},0,null,null,0]
[29,"Центар Жупа",{"$nulls":7},0,null,null,0]
[null,"Југоисточен регион",{"$f":"SUM(C37:C46)","v":0},{"$f":"SUM(D37:D46)","v":0},0,0,0,0,0,0,0,0,0]
[30,"Богданци",{"$nulls":7},0,null,null,0]
[31,"Босилово",{"$nulls":7},0,null,null,0]
[32,"Валандово",{"$nulls":7},0,null,null,0]
[33,"Василево",{"$nulls":7},0,null,null,0]
[34,"Гевгелија",{"$nulls":7},0,null,null,0]
[35,"Дојран",{"$nulls":7},0,null,null,0]
[36,"Конче",{"$nulls":7},0,null,null,0]
[37,"Ново Село",{"$nulls":7},0,null,null,0]
[38,"Радовиш",{"$nulls":7},0,null,null,0]
[39,"Струмица",{"$nulls":7},0,null,null,0]
[null,"Пелагониски регион",{"$f":"SUM(C48:C56)","v":0},{"$f":"SUM(D48:D56)","v":0},0,0,0,0,0,0,0,0,0]
[40,"Битола",{"$nulls":7},0,null,null,0]
[41,"Демир Хисар",{"$nulls":7},0,null,null,0]
[42,"Долнени",{"$nulls":7},0,null,null,0]
[43,"Кривогаштани",{"$nulls":7},0,null,null,0]
[44,"Крушево",{"$nulls":7},0,null,null,0]
[45,"Могила",{"$nulls":7},0,null,null,0]
[46,"Новаци",{"$nulls":7},0,null,null,0]
[47,"Прилеп",{"$nulls":7},0,null,null,0]
[48,"Ресен",{"$nulls":7},0,null,null,0]
[null,"Полошки регион",{"$f":"SUM(C58:C66)","v":0},{"$f":"SUM(D58:D66)","v":0},0,0,0,0,0,0,0,0,0]
[49,"Боговиње",{"$nulls":7},0,null,null,0]
[50,"Бревеница",{"$nulls":7},0,null,null,0]
[51,"Врапчиште",{"$nulls":7},0,null,null,0]
[52,"Гостивар",{"$nulls":7},0,null,null,0]
[53,"Желино",{"$nulls":7},0,null,null,0]
[54,"Јегуновце",{"$nulls":7},0,null,null,0]
[55,"Маврово и Ростуша",{"$nulls":7},0,null,null,0]
[56,"Теарце",{"$nulls":7},0,null,null,0]
[57,"Тетово",{"$nulls":7},0,null,null,0]
[null,"Североисточен регион",{"$f":"SUM(C68:C73)","v":0},{"$f":"SUM(D68:D73)","v":0},0,0,0,0,0,0,0,0,0]
[58,"Кратово",{"$nulls":7},0,null,null,0]
[59,"Крива Паланка",{"$nulls":7},0,null,null,0]
[60,"Куманово",{"$nulls":7},{"$f":"SUM(E70:I70)","v":0},null,null,{"$f":"SUM(J70:L70)","v":0}]
[61,"Липково",{"$nulls":7},0,null,null,0]
[62,"Ранковце",{"$nulls":7},0,null,null,0]
[63,"Старо Нагоричане",{"$nulls":7},0,null,null,0]
[null,"Скопски регион",{"$f":"SUM(C75:C91)","v":1},{"$f":"SUM(D75:D91)","v":1},0,0,6,0,0,6,4,4,14]
[64,"Аеродром",{"$nulls":7},{"$f":"SUM(E75:I75)","v":0},null,null,{"$f":"SUM(J75:L75)","v":0}]
[65,"Арачиново",{"$nulls":7},0,null,null,0]
[66,"Бутел",{"$nulls":7},0,3,null,3]
[67,"Гази Баба",{"$nulls":4},3,null,null,3,null,null,3]
[68,"Ѓорче Петров",{"$nulls":7},0,null,null,0]
[69,"Зелениково",{"$nulls":7},0,null,null,0]
[70,"Илинден",{"$nulls":7},0,null,null,0]
[71,"Карпош",{"$nulls":7},0,null,null,0]
[72,"Кисела Вода",{"$nulls":7},0,null,null,0]
[73,"Петровец",{"$nulls":7},0,null,null,0]
[74,"Сарај",1,1,null,null,3,null,null,3,null,null,3]
[75,"Сопиште",{"$nulls":7},0,null,null,0]
[76,"Студеничани",{"$nulls":7},0,null,null,0]
[77,"Центар",{"$nulls":7},0,1,null,1]
[78,"Чаир",{"$nulls":7},0,null,4,4]
[79,"Чучер-Сандево",{"$nulls":7},0,null,null,0]
[80,"Шуто Оризари",{"$nulls":7},0,null,null,0]
["ВКУПНО",null,{"$f":"SUM(C4,C14,C26,C36,C47,C57,C67,C74)","v":1},{"$f":"SUM(D4,D14,D26,D36,D47,D57,D67,D74)","v":1},0,0,6,0,0,6,5,4,15]

{"sheet":"Табела 2 Фев","index":3,"n_rows":92,"n_cols":13,"rows_kept":92,"merged":[[0,0,0,12],[1,0,2,0],[1,1,2,1],[1,2,1,3],[1,4,1,9],[1,10,2,10],[1,11,2,11],[1,12,2,12],[91,0,91,1]]}
["Табела 2 Преглед на вкупниот број на планирани неправилности и инспекциски надзори според вид во месец [месец], [ГГГГ] година, по региони"]
["Ред.Бр.","Регион","Неправилности",null,"Редовен надзор по коефициент на сложеност",{"$nulls":5},"Вонреден надзор","Контролен надзор","Вкупно надзори"]
[null,null,"Месечен план","Според Год. План","Q1","Q2","Q3","Q4","Q5","Вкупно"]
[null,"Вардарски  регион",{"$f":"SUM(C5:C13)","v":0},{"$f":"SUM(D5:D13)","v":0},0,0,0,0,0,0,0,2,2]
[1,"Велес",{"$nulls":7},{"$f":"SUM(E5:I5)","v":0},null,2,{"$f":"SUM(J5:L5)","v":2}]
[2,"Градско",{"$nulls":7},{"$f":"SUM(E6:I6)","v":0},null,null,{"$f":"SUM(J6:L6)","v":0}]
[3,"Демир Капија",{"$nulls":7},0,null,null,0]
[4,"Кавадарци",{"$nulls":7},0,null,null,0]
[5,"Лозово",{"$nulls":7},0,null,null,0]
[6,"Неготино",{"$nulls":7},0,null,null,0]
[7,"Росоман",{"$nulls":7},0,null,null,0]
[8,"Свети Николе",{"$nulls":7},0,null,null,0]
[9,"Чашка",{"$nulls":7},0,null,null,0]
[null,"Источен регион",{"$f":"SUM(C15:C25)","v":0},{"$f":"SUM(D15:D25)","v":0},0,0,1,0,0,1,1,0,2]
[10,"Берово",{"$nulls":7},0,null,null,0]
[11,"Виница",{"$nulls":7},0,null,null,0]
[12,"Делчево",{"$nulls":7},0,null,null,0]
[13,"Зрновци",{"$nulls":7},0,null,null,0]
[14,"Карбинци",{"$nulls":7},0,null,null,0]
[15,"Кочани",{"$nulls":4},1,null,null,1,1,null,2]
[16,"Македонска Каменица",{"$nulls":7},0,null,null,0]
[17,"Пехчево",{"$nulls":7},0,null,null,0]
[18,"Пробиштип",{"$nulls":7},0,null,null,0]
[19,"Чешиново",{"$nulls":7},0,null,null,0]
[20,"Штип",{"$nulls":7},0,null,null,0]
[null,"Југозападен регион",{"$f":"SUM(C27:C35)","v":0},{"$f":"SUM(D27:D35)","v":0},0,0,0,0,0,0,0,0,0]
[21,"Вевчани",{"$nulls":7},0,null,null,0]
[22,"Дебар",{"$nulls":7},0,null,null,0]
[23,"Дебарца",{"$nulls":7},0,null,null,0]
[24,"Кичево",{"$nulls":7},0,null,null,0]
[25,"Македонски Брод",{"$nulls":7},0,null,null,0]
[26,"Охрид",{"$nulls":7},0,null,null,0]
[27,"Пласница",{"$nulls":7},0,null,null,0]
[28,"Струга",{"$nulls":7},0,null,null,0]
[29,"Центар Жупа",{"$nulls":7},0,null,null,0]
[null,"Југоисточен регион",{"$f":"SUM(C37:C46)","v":0},{"$f":"SUM(D37:D46)","v":0},0,0,0,0,0,0,0,0,0]
[30,"Богданци",{"$nulls":7},0,null,null,0]
[31,"Босилово",{"$nulls":7},0,null,null,0]
[32,"Валандово",{"$nulls":7},0,null,null,0]
[33,"Василево",{"$nulls":7},0,null,null,0]
[34,"Гевгелија",{"$nulls":7},0,null,null,0]
[35,"Дојран",{"$nulls":7},0,null,null,0]
[36,"Конче",{"$nulls":7},0,null,null,0]
[37,"Ново Село",{"$nulls":7},0,null,null,0]
[38,"Радовиш",{"$nulls":7},0,null,null,0]
[39,"Струмица",{"$nulls":7},0,null,null,0]
[null,"Пелагониски регион",{"$f":"SUM(C48:C56)","v":0},{"$f":"SUM(D48:D56)","v":0},0,0,1,0,0,1,0,1,2]
[40,"Битола",{"$nulls":4},1,null,null,1,null,1,2]
[41,"Демир Хисар",{"$nulls":7},0,null,null,0]
[42,"Долнени",{"$nulls":7},0,null,null,0]
[43,"Кривогаштани",{"$nulls":7},0,null,null,0]
[44,"Крушево",{"$nulls":7},0,null,null,0]
[45,"Могила",{"$nulls":7},0,null,null,0]
[46,"Новаци",{"$nulls":7},0,null,null,0]
[47,"Прилеп",{"$nulls":7},0,null,null,0]
[48,"Ресен",{"$nulls":7},0,null,null,0]
[null,"Полошки регион",{"$f":"SUM(C58:C66)","v":0},{"$f":"SUM(D58:D66)","v":0},0,0,0,0,0,0,0,0,0]
[49,"Боговиње",{"$nulls":7},0,null,null,0]
[50,"Бревеница",{"$nulls":7},0,null,null,0]
[51,"Врапчиште",{"$nulls":7},0,null,null,0]
[52,"Гостивар",{"$nulls":7},0,null,null,0]
[53,"Желино",{"$nulls":7},0,null,null,0]
[54,"Јегуновце",{"$nulls":7},0,null,null,0]
[55,"Маврово и Ростуша",{"$nulls":7},0,null,null,0]
[56,"Теарце",{"$nulls":7},0,null,null,0]
[57,"Тетово",{"$nulls":7},0,null,null,0]
[null,"Североисточен регион",{"$f":"SUM(C68:C73)","v":0},{"$f":"SUM(D68:D73)","v":0},0,0,0,0,0,0,0,0,0]
[58,"Кратово",{"$nulls":7},0,null,null,0]
[59,"Крива Паланка",{"$nulls":7},0,null,null,0]
[60,"Куманово",{"$nulls":7},{"$f":"SUM(E70:I70)","v":0},null,null,{"$f":"SUM(J70:L70)","v":0}]
[61,"Липково",{"$nulls":7},0,null,null,0]
[62,"Ранковце",{"$nulls":7},0,null,null,0]
[63,"Старо Нагоричане",{"$nulls":7},0,null,null,0]
[null,"Скопски регион",{"$f":"SUM(C75:C91)","v":0},{"$f":"SUM(D75:D91)","v":0},0,0,4,0,0,4,7,1,12]
[64,"Аеродром",{"$nulls":4},2,null,null,{"$f":"SUM(E75:I75)","v":2},null,null,{"$f":"SUM(J75:L75)","v":2}]
[65,"Арачиново",{"$nulls":7},0,null,null,0]
[66,"Бутел",{"$nulls":7},0,3,null,3]
[67,"Гази Баба",{"$nulls":7},0,null,null,0]
[68,"Ѓорче Петров",{"$nulls":7},0,null,null,0]
[69,"Зелениково",{"$nulls":7},0,null,null,0]
[70,"Илинден",{"$nulls":4},2,null,null,2,null,null,2]
[71,"Карпош",{"$nulls":7},0,2,null,2]
[72,"Кисела Вода",{"$nulls":7},0,null,null,0]
[73,"Петровец",{"$nulls":7},0,null,null,0]
[74,"Сарај",{"$nulls":7},0,null,null,0]
[75,"Сопиште",{"$nulls":7},0,null,null,0]
[76,"Студеничани",{"$nulls":7},0,null,null,0]
[77,"Центар",{"$nulls":7},0,2,null,2]
[78,"Чаир",{"$nulls":7},0,null,1,1]
[79,"Чучер-Сандево",{"$nulls":7},0,null,null,0]
[80,"Шуто Оризари",{"$nulls":7},0,null,null,0]
["ВКУПНО",null,{"$f":"SUM(C4,C14,C26,C36,C47,C57,C67,C74)","v":0},{"$f":"SUM(D4,D14,D26,D36,D47,D57,D67,D74)","v":0},0,0,6,0,0,6,8,4,18]

{"sheet":"Табела 2 Мар","index":4,"n_rows":92,"n_cols":13,"rows_kept":92,"merged":[[0,0,0,12],[1,0,2,0],[1,1,2,1],[1,2,1,3],[1,4,1,9],[1,10,2,10],[1,11,2,11],[1,12,2,12],[91,0,91,1]]}
["Табела 2 Преглед на вкупниот број на планирани неправилности и инспекциски надзори според вид во месец [месец], [ГГГГ] година, по региони"]
["Ред.Бр.","Регион","Неправилности",null,"Редовен надзор по коефициент на сложеност",{"$nulls":5},"Вонреден надзор","Контролен надзор","Вкупно надзори"]
[null,null,"Месечен план","Според Год. План","Q1","Q2","Q3","Q4","Q5","Вкупно"]
[null,"Вардарски  регион",{"$f":"SUM(C5:C13)","v":0},{"$f":"SUM(D5:D13)","v":0},0,0,0,0,0,0,0,0,0]
[1,"Велес",{"$nulls":7},{"$f":"SUM(E5:I5)","v":0},null,null,{"$f":"SUM(J5:L5)","v":0}]
[2,"Градско",{"$nulls":7},{"$f":"SUM(E6:I6)","v":0},null,null,{"$f":"SUM(J6:L6)","v":0}]
[3,"Демир Капија",{"$nulls":7},0,null,null,0]
[4,"Кавадарци",{"$nulls":7},0,null,null,0]
[5,"Лозово",{"$nulls":7},0,null,null,0]
[6,"Неготино",{"$nulls":7},0,null,null,0]
[7,"Росоман",{"$nulls":7},0,null,null,0]
[8,"Свети Николе",{"$nulls":7},0,null,null,0]
[9,"Чашка",{"$nulls":7},0,null,null,0]
[null,"Источен регион",{"$f":"SUM(C15:C25)","v":0},{"$f":"SUM(D15:D25)","v":0},0,0,0,0,0,0,0,0,0]
[10,"Берово",{"$nulls":7},0,null,null,0]
[11,"Виница",{"$nulls":7},0,null,null,0]
[12,"Делчево",{"$nulls":7},0,null,null,0]
[13,"Зрновци",{"$nulls":7},0,null,null,0]
[14,"Карбинци",{"$nulls":7},0,null,null,0]
[15,"Кочани",{"$nulls":7},0,null,null,0]
[16,"Македонска Каменица",{"$nulls":7},0,null,null,0]
[17,"Пехчево",{"$nulls":7},0,null,null,0]
[18,"Пробиштип",{"$nulls":7},0,null,null,0]
[19,"Чешиново",{"$nulls":7},0,null,null,0]
[20,"Штип",{"$nulls":7},0,null,null,0]
[null,"Југозападен регион",{"$f":"SUM(C27:C35)","v":0},{"$f":"SUM(D27:D35)","v":0},0,0,6,0,0,6,0,0,6]
[21,"Вевчани",{"$nulls":7},0,null,null,0]
[22,"Дебар",{"$nulls":7},0,null,null,0]
[23,"Дебарца",{"$nulls":7},0,null,null,0]
[24,"Кичево",{"$nulls":7},0,null,null,0]
[25,"Македонски Брод",{"$nulls":7},0,null,null,0]
[26,"Охрид",{"$nulls":4},3,null,null,3,null,null,3]
[27,"Пласница",{"$nulls":7},0,null,null,0]
[28,"Струга",{"$nulls":4},3,null,null,3,null,null,3]
[29,"Центар Жупа",{"$nulls":7},0,null,null,0]
[null,"Југоисточен регион",{"$f":"SUM(C37:C46)","v":0},{"$f":"SUM(D37:D46)","v":0},0,0,4,0,0,4,0,0,4]
[30,"Богданци",{"$nulls":7},0,null,null,0]
[31,"Босилово",{"$nulls":7},0,null,null,0]
[32,"Валандово",{"$nulls":7},0,null,null,0]
[33,"Василево",{"$nulls":7},0,null,null,0]
[34,"Гевгелија",{"$nulls":7},0,null,null,0]
[35,"Дојран",{"$nulls":7},0,null,null,0]
[36,"Конче",{"$nulls":7},0,null,null,0]
[37,"Ново Село",{"$nulls":7},0,null,null,0]
[38,"Радовиш",{"$nulls":4},4,null,null,4,null,null,4]
[39,"Струмица",{"$nulls":7},0,null,null,0]
[null,"Пелагониски регион",{"$f":"SUM(C48:C56)","v":0},{"$f":"SUM(D48:D56)","v":0},0,0,0,0,0,0,0,0,0]
[40,"Битола",{"$nulls":7},0,null,null,0]
[41,"Демир Хисар",{"$nulls":7},0,null,null,0]
[42,"Долнени",{"$nulls":7},0,null,null,0]
[43,"Кривогаштани",{"$nulls":7},0,null,null,0]
[44,"Крушево",{"$nulls":7},0,null,null,0]
[45,"Могила",{"$nulls":7},0,null,null,0]
[46,"Новаци",{"$nulls":7},0,null,null,0]
[47,"Прилеп",{"$nulls":7},0,null,null,0]
[48,"Ресен",{"$nulls":7},0,null,null,0]
[null,"Полошки регион",{"$f":"SUM(C58:C66)","v":0},{"$f":"SUM(D58:D66)","v":0},0,0,0,0,0,0,0,0,0]
[49,"Боговиње",{"$nulls":7},0,null,null,0]
[50,"Бревеница",{"$nulls":7},0,null,null,0]
[51,"Врапчиште",{"$nulls":7},0,null,null,0]
[52,"Гостивар",{"$nulls":7},0,null,null,0]
[53,"Желино",{"$nulls":7},0,null,null,0]
[54,"Јегуновце",{"$nulls":7},0,null,null,0]
[55,"Маврово и Ростуша",{"$nulls":7},0,null,null,0]
[56,"Теарце",{"$nulls":7},0,null,null,0]
[57,"Тетово",{"$nulls":7},0,null,null,0]
[null,"Североисточен регион",{"$f":"SUM(C68:C73)","v":0},{"$f":"SUM(D68:D73)","v":0},0,0,6,0,0,6,0,0,6]
[58,"Кратово",{"$nulls":7},0,null,null,0]
[59,"Крива Паланка",{"$nulls":7},0,null,null,0]
[60,"Куманово",{"$nulls":4},6,null,null,{"$f":"SUM(E70:I70)","v":6},null,null,{"$f":"SUM(J70:L70)","v":6}]
[61,"Липково",{"$nulls":7},0,null,null,0]
[62,"Ранковце",{"$nulls":7},0,null,null,0]
[63,"Старо Нагоричане",{"$nulls":7},0,null,null,0]
[null,"Скопски регион",{"$f":"SUM(C75:C91)","v":0},{"$f":"SUM(D75:D91)","v":0},0,0,0,0,0,0,6,0,6]
[64,"Аеродром",{"$nulls":7},{"$f":"SUM(E75:I75)","v":0},null,null,{"$f":"SUM(J75:L75)","v":0}]
[65,"Арачиново",{"$nulls":7},0,null,null,0]
[66,"Бутел",{"$nulls":7},0,4,null,4]
[67,"Гази Баба",{"$nulls":7},0,null,null,0]
[68,"Ѓорче Петров",{"$nulls":7},0,null,null,0]
[69,"Зелениково",{"$nulls":7},0,null,null,0]
[70,"Илинден",{"$nulls":7},0,null,null,0]
[71,"Карпош",{"$nulls":7},0,1,null,1]
[72,"Кисела Вода",{"$nulls":7},0,null,null,0]
[73,"Петровец",{"$nulls":7},0,null,null,0]
[74,"Сарај",{"$nulls":7},0,null,null,0]
[75,"Сопиште",{"$nulls":7},0,null,null,0]
[76,"Студеничани",{"$nulls":7},0,null,null,0]
[77,"Центар",{"$nulls":7},0,1,null,1]
[78,"Чаир",{"$nulls":7},0,null,null,0]
[79,"Чучер-Сандево",{"$nulls":7},0,null,null,0]
[80,"Шуто Оризари",{"$nulls":7},0,null,null,0]
["ВКУПНО",null,{"$f":"SUM(C4,C14,C26,C36,C47,C57,C67,C74)","v":0},{"$f":"SUM(D4,D14,D26,D36,D47,D57,D67,D74)","v":0},0,0,16,0,0,16,6,0,22]

{"sheet":"Табела 2 Апр","index":5,"n_rows":92,"n_cols":13,"rows_kept":92,"merged":[[0,0,0,12],[1,0,2,0],[1,1,2,1],[1,2,1,3],[1,4,1,9],[1,10,2,10],[1,11,2,11],[1,12,2,12],[91,0,91,1]]}
["Табела 2 Преглед на вкупниот број на планирани неправилности и инспекциски надзори според вид во месец [месец], [ГГГГ] година, по региони"]
["Ред.Бр.","Регион","Неправилности",null,"Редовен надзор по коефициент на сложеност",{"$nulls":5},"Вонреден надзор","Контролен надзор","Вкупно надзори"]
[null,null,"Месечен план","Според Год. План","Q1","Q2","Q3","Q4","Q5","Вкупно"]
[null,"Вардарски  регион",{"$f":"SUM(C5:C13)","v":0},{"$f":"SUM(D5:D13)","v":0},0,0,0,0,0,0,0,0,0]
[1,"Велес",{"$nulls":7},{"$f":"SUM(E5:I5)","v":0},null,null,{"$f":"SUM(J5:L5)","v":0}]
[2,"Градско",{"$nulls":7},{"$f":"SUM(E6:I6)","v":0},null,null,{"$f":"SUM(J6:L6)","v":0}]
[3,"Демир Капија",{"$nulls":7},0,null,null,0]
[4,"Кавадарци",{"$nulls":7},0,null,null,0]
[5,"Лозово",{"$nulls":7},0,null,null,0]
[6,"Неготино",{"$nulls":7},0,null,null,0]
[7,"Росоман",{"$nulls":7},0,null,null,0]
[8,"Свети Николе",{"$nulls":7},0,null,null,0]
[9,"Чашка",{"$nulls":7},0,null,null,0]
[null,"Источен регион",{"$f":"SUM(C15:C25)","v":0},{"$f":"SUM(D15:D25)","v":0},0,0,0,0,0,0,0,0,0]
[10,"Берово",{"$nulls":7},0,null,null,0]
[11,"Виница",{"$nulls":7},0,null,null,0]
[12,"Делчево",{"$nulls":7},0,null,null,0]
[13,"Зрновци",{"$nulls":7},0,null,null,0]
[14,"Карбинци",{"$nulls":7},0,null,null,0]
[15,"Кочани",{"$nulls":7},0,null,null,0]
[16,"Македонска Каменица",{"$nulls":7},0,null,null,0]
[17,"Пехчево",{"$nulls":7},0,null,null,0]
[18,"Пробиштип",{"$nulls":7},0,null,null,0]
[19,"Чешиново",{"$nulls":7},0,null,null,0]
[20,"Штип",{"$nulls":7},0,null,null,0]
[null,"Југозападен регион",{"$f":"SUM(C27:C35)","v":0},{"$f":"SUM(D27:D35)","v":0},0,0,0,0,0,0,0,0,0]
[21,"Вевчани",{"$nulls":7},0,null,null,0]
[22,"Дебар",{"$nulls":7},0,null,null,0]
[23,"Дебарца",{"$nulls":7},0,null,null,0]
[24,"Кичево",{"$nulls":7},0,null,null,0]
[25,"Македонски Брод",{"$nulls":7},0,null,null,0]
[26,"Охрид",{"$nulls":7},0,null,null,0]
[27,"Пласница",{"$nulls":7},0,null,null,0]
[28,"Струга",{"$nulls":7},0,null,null,0]
[29,"Центар Жупа",{"$nulls":7},0,null,null,0]
[null,"Југоисточен регион",{"$f":"SUM(C37:C46)","v":0},{"$f":"SUM(D37:D46)","v":0},0,0,0,0,0,0,0,0,0]
[30,"Богданци",{"$nulls":7},0,null,null,0]
[31,"Босилово",{"$nulls":7},0,null,null,0]
[32,"Валандово",{"$nulls":7},0,null,null,0]
[33,"Василево",{"$nulls":7},0,null,null,0]
[34,"Гевгелија",{"$nulls":7},0,null,null,0]
[35,"Дојран",{"$nulls":7},0,null,null,0]
[36,"Конче",{"$nulls":7},0,null,null,0]
[37,"Ново Село",{"$nulls":7},0,null,null,0]
[38,"Радовиш",{"$nulls":7},0,null,null,0]
[39,"Струмица",{"$nulls":7},0,null,null,0]
[null,"Пелагониски регион",{"$f":"SUM(C48:C56)","v":0},{"$f":"SUM(D48:D56)","v":0},0,0,0,0,0,0,0,0,0]
[40,"Битола",{"$nulls":7},0,null,null,0]
[41,"Демир Хисар",{"$nulls":7},0,null,null,0]
[42,"Долнени",{"$nulls":7},0,null,null,0]
[43,"Кривогаштани",{"$nulls":7},0,null,null,0]
[44,"Крушево",{"$nulls":7},0,null,null,0]
[45,"Могила",{"$nulls":7},0,null,null,0]
[46,"Новаци",{"$nulls":7},0,null,null,0]
[47,"Прилеп",{"$nulls":7},0,null,null,0]
[48,"Ресен",{"$nulls":7},0,null,null,0]
[null,"Полошки регион",{"$f":"SUM(C58:C66)","v":0},{"$f":"SUM(D58:D66)","v":0},0,0,5,0,0,5,10,0,15]
[49,"Боговиње",{"$nulls":7},0,null,null,0]
[50,"Бревеница",{"$nulls":7},0,2,null,2]
[51,"Врапчиште",{"$nulls":7},0,null,null,0]
[52,"Гостивар",{"$nulls":7},0,null,null,0]
[53,"Желино",{"$nulls":7},0,null,null,0]
[54,"Јегуновце",{"$nulls":7},0,2,null,2]
[55,"Маврово и Ростуша",{"$nulls":7},0,null,null,0]
[56,"Теарце",{"$nulls":7},0,null,null,0]
[57,"Тетово",{"$nulls":4},5,null,null,5,6,null,11]
[null,"Североисточен регион",{"$f":"SUM(C68:C73)","v":0},{"$f":"SUM(D68:D73)","v":0},0,0,5,0,0,5,10,0,15]
[58,"Кратово",{"$nulls":7},0,null,null,0]
[59,"Крива Паланка",{"$nulls":7},0,null,null,0]
[60,"Куманово",{"$nulls":4},5,null,null,{"$f":"SUM(E70:I70)","v":5},10,null,{"$f":"SUM(J70:L70)","v":15}]
[61,"Липково",{"$nulls":7},0,null,null,0]
[62,"Ранковце",{"$nulls":7},0,null,null,0]
[63,"Старо Нагоричане",{"$nulls":7},0,null,null,0]
[null,"Скопски регион",{"$f":"SUM(C75:C91)","v":0},{"$f":"SUM(D75:D91)","v":0},0,0,10,0,0,10,20,0,30]
[64,"Аеродром",{"$nulls":4},5,null,null,{"$f":"SUM(E75:I75)","v":5},7,null,{"$f":"SUM(J75:L75)","v":12}]
[65,"Арачиново",{"$nulls":7},0,null,null,0]
[66,"Бутел",{"$nulls":7},0,null,null,0]
[67,"Гази Баба",{"$nulls":7},0,null,null,0]
[68,"Ѓорче Петров",{"$nulls":7},0,1,null,1]
[69,"Зелениково",{"$nulls":7},0,null,null,0]
[70,"Илинден",{"$nulls":7},0,null,null,0]
[71,"Карпош",{"$nulls":4},5,null,null,5,8,null,13]
[72,"Кисела Вода",{"$nulls":7},0,null,null,0]
[73,"Петровец",{"$nulls":7},0,null,null,0]
[74,"Сарај",{"$nulls":7},0,1,null,1]
[75,"Сопиште",{"$nulls":7},0,null,null,0]
[76,"Студеничани",{"$nulls":7},0,null,null,0]
[77,"Центар",{"$nulls":7},0,null,null,0]
[78,"Чаир",{"$nulls":7},0,3,null,3]
[79,"Чучер-Сандево",{"$nulls":7},0,null,null,0]
[80,"Шуто Оризари",{"$nulls":7},0,null,null,0]
["ВКУПНО",null,{"$f":"SUM(C4,C14,C26,C36,C47,C57,C67,C74)","v":0},{"$f":"SUM(D4,D14,D26,D36,D47,D57,D67,D74)","v":0},0,0,20,0,0,20,40,0,60]

{"sheet":"Табела 2 Мај","index":6,"n_rows":92,"n_cols":13,"rows_kept":92,"merged":[[0,0,0,12],[1,0,2,0],[1,1,2,1],[1,2,1,3],[1,4,1,9],[1,10,2,10],[1,11,2,11],[1,12,2,12],[91,0,91,1]]}
["Табела 2 Преглед на вкупниот број на планирани неправилности и инспекциски надзори според вид во месец [месец], [ГГГГ] година, по региони"]
["Ред.Бр.","Регион","Неправилности",null,"Редовен надзор по коефициент на сложеност",{"$nulls":5},"Вонреден надзор","Контролен надзор","Вкупно надзори"]
[null,null,"Месечен план","Според Год. План","Q1","Q2","Q3","Q4","Q5","Вкупно"]
[null,"Вардарски  регион",{"$f":"SUM(C5:C13)","v":0},{"$f":"SUM(D5:D13)","v":0},0,0,0,0,0,0,0,0,0]
[1,"Велес",{"$nulls":7},{"$f":"SUM(E5:I5)","v":0},null,null,{"$f":"SUM(J5:L5)","v":0}]
[2,"Градско",{"$nulls":7},{"$f":"SUM(E6:I6)","v":0},null,null,{"$f":"SUM(J6:L6)","v":0}]
[3,"Демир Капија",{"$nulls":7},0,null,null,0]
[4,"Кавадарци",{"$nulls":7},0,null,null,0]
[5,"Лозово",{"$nulls":7},0,null,null,0]
[6,"Неготино",{"$nulls":7},0,null,null,0]
[7,"Росоман",{"$nulls":7},0,null,null,0]
[8,"Свети Николе",{"$nulls":7},0,null,null,0]
[9,"Чашка",{"$nulls":7},0,null,null,0]
[null,"Источен регион",{"$f":"SUM(C15:C25)","v":0},{"$f":"SUM(D15:D25)","v":0},0,0,0,0,0,0,0,0,0]
[10,"Берово",{"$nulls":7},0,null,null,0]
[11,"Виница",{"$nulls":7},0,null,null,0]
[12,"Делчево",{"$nulls":7},0,null,null,0]
[13,"Зрновци",{"$nulls":7},0,null,null,0]
[14,"Карбинци",{"$nulls":7},0,null,null,0]
[15,"Кочани",{"$nulls":7},0,null,null,0]
[16,"Македонска Каменица",{"$nulls":7},0,null,null,0]
[17,"Пехчево",{"$nulls":7},0,null,null,0]
[18,"Пробиштип",{"$nulls":7},0,null,null,0]
[19,"Чешиново",{"$nulls":7},0,null,null,0]
[20,"Штип",{"$nulls":7},0,null,null,0]
[null,"Југозападен регион",{"$f":"SUM(C27:C35)","v":0},{"$f":"SUM(D27:D35)","v":0},0,0,0,0,0,0,0,0,0]
[21,"Вевчани",{"$nulls":7},0,null,null,0]
[22,"Дебар",{"$nulls":7},0,null,null,0]
[23,"Дебарца",{"$nulls":7},0,null,null,0]
[24,"Кичево",{"$nulls":7},0,null,null,0]
[25,"Македонски Брод",{"$nulls":7},0,null,null,0]
[26,"Охрид",{"$nulls":7},0,null,null,0]
[27,"Пласница",{"$nulls":7},0,null,null,0]
[28,"Струга",{"$nulls":7},0,null,null,0]
[29,"Центар Жупа",{"$nulls":7},0,null,null,0]
[null,"Југоисточен регион",{"$f":"SUM(C37:C46)","v":0},{"$f":"SUM(D37:D46)","v":0},0,0,0,0,0,0,0,0,0]
[30,"Богданци",{"$nulls":7},0,null,null,0]
[31,"Босилово",{"$nulls":7},0,null,null,0]
[32,"Валандово",{"$nulls":7},0,null,null,0]
[33,"Василево",{"$nulls":7},0,null,null,0]
[34,"Гевгелија",{"$nulls":7},0,null,null,0]
[35,"Дојран",{"$nulls":7},0,null,null,0]
[36,"Конче",{"$nulls":7},0,null,null,0]
[37,"Ново Село",{"$nulls":7},0,null,null,0]
[38,"Радовиш",{"$nulls":7},0,null,null,0]
[39,"Струмица",{"$nulls":7},0,null,null,0]
[null,"Пелагониски регион",{"$f":"SUM(C48:C56)","v":0},{"$f":"SUM(D48:D56)","v":0},0,0,0,0,0,0,0,0,0]
[40,"Битола",{"$nulls":7},0,null,null,0]
[41,"Демир Хисар",{"$nulls":7},0,null,null,0]
[42,"Долнени",{"$nulls":7},0,null,null,0]
[43,"Кривогаштани",{"$nulls":7},0,null,null,0]
[44,"Крушево",{"$nulls":7},0,null,null,0]
[45,"Могила",{"$nulls":7},0,null,null,0]
[46,"Новаци",{"$nulls":7},0,null,null,0]
[47,"Прилеп",{"$nulls":7},0,null,null,0]
[48,"Ресен",{"$nulls":7},0,null,null,0]
[null,"Полошки регион",{"$f":"SUM(C58:C66)","v":0},{"$f":"SUM(D58:D66)","v":0},0,0,0,0,0,0,12,0,12]
[49,"Боговиње",{"$nulls":7},0,null,null,0]
[50,"Бревеница",{"$nulls":7},0,null,null,0]
[51,"Врапчиште",{"$nulls":7},0,null,null,0]
[52,"Гостивар",{"$nulls":7},0,null,null,0]
[53,"Желино",{"$nulls":7},0,null,null,0]
[54,"Јегуновце",{"$nulls":7},0,null,null,0]
[55,"Маврово и Ростуша",{"$nulls":7},0,null,null,0]
[56,"Теарце",{"$nulls":7},0,null,null,0]
[57,"Тетово",{"$nulls":7},0,12,null,12]
[null,"Североисточен регион",{"$f":"SUM(C68:C73)","v":0},{"$f":"SUM(D68:D73)","v":0},0,0,0,0,0,0,12,0,12]
[58,"Кратово",{"$nulls":7},0,null,null,0]
[59,"Крива Паланка",{"$nulls":7},0,null,null,0]
[60,"Куманово",{"$nulls":7},{"$f":"SUM(E70:I70)","v":0},10,null,{"$f":"SUM(J70:L70)","v":10}]
[61,"Липково",{"$nulls":7},0,2,null,2]
[62,"Ранковце",{"$nulls":7},0,null,null,0]
[63,"Старо Нагоричане",{"$nulls":7},0,null,null,0]
[null,"Скопски регион",{"$f":"SUM(C75:C91)","v":0},{"$f":"SUM(D75:D91)","v":0},0,0,0,0,0,0,24,0,24]
[64,"Аеродром",{"$nulls":7},{"$f":"SUM(E75:I75)","v":0},null,null,{"$f":"SUM(J75:L75)","v":0}]
[65,"Арачиново",{"$nulls":7},0,null,null,0]
[66,"Бутел",{"$nulls":7},0,null,null,0]
[67,"Гази Баба",{"$nulls":7},0,2,null,2]
[68,"Ѓорче Петров",{"$nulls":7},0,null,null,0]
[69,"Зелениково",{"$nulls":7},0,null,null,0]
[70,"Илинден",{"$nulls":7},0,null,null,0]
[71,"Карпош",{"$nulls":7},0,10,null,10]
[72,"Кисела Вода",{"$nulls":7},0,5,null,5]
[73,"Петровец",{"$nulls":7},0,null,null,0]
[74,"Сарај",{"$nulls":7},0,null,null,0]
[75,"Сопиште",{"$nulls":7},0,null,null,0]
[76,"Студеничани",{"$nulls":7},0,null,null,0]
[77,"Центар",{"$nulls":7},0,null,null,0]
[78,"Чаир",{"$nulls":7},0,7,null,7]
[79,"Чучер-Сандево",{"$nulls":7},0,null,null,0]
[80,"Шуто Оризари",{"$nulls":7},0,null,null,0]
["ВКУПНО",null,{"$f":"SUM(C4,C14,C26,C36,C47,C57,C67,C74)","v":0},{"$f":"SUM(D4,D14,D26,D36,D47,D57,D67,D74)","v":0},0,0,0,0,0,0,48,0,48]

{"sheet":"Табела 2 Јун","index":7,"n_rows":92,"n_cols":13,"rows_kept":92,"merged":[[0,0,0,12],[1,0,2,0],[1,1,2,1],[1,2,1,3],[1,4,1,9],[1,10,2,10],[1,11,2,11],[1,12,2,12],[91,0,91,1]]}
["Табела 2 Преглед на вкупниот број на планирани неправилности и инспекциски надзори според вид во месец [месец], [ГГГГ] година, по региони"]
["Ред.Бр.","Регион","Неправилности",null,"Редовен надзор по коефициент на сложеност",{"$nulls":5},"Вонреден надзор","Контролен надзор","Вкупно надзори"]
[null,null,"Месечен план","Според Год. План","Q1","Q2","Q3","Q4","Q5","Вкупно"]
[null,"Вардарски  регион",{"$f":"SUM(C5:C13)","v":0},{"$f":"SUM(D5:D13)","v":0},0,0,0,0,0,0,0,0,0]
[1,"Велес",{"$nulls":7},{"$f":"SUM(E5:I5)","v":0},null,null,{"$f":"SUM(J5:L5)","v":0}]
[2,"Градско",{"$nulls":7},{"$f":"SUM(E6:I6)","v":0},null,null,{"$f":"SUM(J6:L6)","v":0}]
[3,"Демир Капија",{"$nulls":7},0,null,null,0]
[4,"Кавадарци",{"$nulls":7},0,null,null,0]
[5,"Лозово",{"$nulls":7},0,null,null,0]
[6,"Неготино",{"$nulls":7},0,null,null,0]
[7,"Росоман",{"$nulls":7},0,null,null,0]
[8,"Свети Николе",{"$nulls":7},0,null,null,0]
[9,"Чашка",{"$nulls":7},0,null,null,0]
[null,"Источен регион",{"$f":"SUM(C15:C25)","v":0},{"$f":"SUM(D15:D25)","v":0},0,0,2,0,0,2,0,0,2]
[10,"Берово",{"$nulls":7},0,null,null,0]
[11,"Виница",{"$nulls":7},0,null,null,0]
[12,"Делчево",{"$nulls":7},0,null,null,0]
[13,"Зрновци",{"$nulls":7},0,null,null,0]
[14,"Карбинци",{"$nulls":7},0,null,null,0]
[15,"Кочани",{"$nulls":4},2,null,null,2,null,null,2]
[16,"Македонска Каменица",{"$nulls":7},0,null,null,0]
[17,"Пехчево",{"$nulls":7},0,null,null,0]
[18,"Пробиштип",{"$nulls":7},0,null,null,0]
[19,"Чешиново",{"$nulls":7},0,null,null,0]
[20,"Штип",{"$nulls":7},0,null,null,0]
[null,"Југозападен регион",{"$f":"SUM(C27:C35)","v":0},{"$f":"SUM(D27:D35)","v":0},0,0,0,0,0,0,0,0,0]
[21,"Вевчани",{"$nulls":7},0,null,null,0]
[22,"Дебар",{"$nulls":7},0,null,null,0]
[23,"Дебарца",{"$nulls":7},0,null,null,0]
[24,"Кичево",{"$nulls":7},0,null,null,0]
[25,"Македонски Брод",{"$nulls":7},0,null,null,0]
[26,"Охрид",{"$nulls":7},0,null,null,0]
[27,"Пласница",{"$nulls":7},0,null,null,0]
[28,"Струга",{"$nulls":7},0,null,null,0]
[29,"Центар Жупа",{"$nulls":7},0,null,null,0]
[null,"Југоисточен регион",{"$f":"SUM(C37:C46)","v":0},{"$f":"SUM(D37:D46)","v":0},0,0,0,0,0,0,0,0,0]
[30,"Богданци",{"$nulls":7},0,null,null,0]
[31,"Босилово",{"$nulls":7},0,null,null,0]
[32,"Валандово",{"$nulls":7},0,null,null,0]
[33,"Василево",{"$nulls":7},0,null,null,0]
[34,"Гевгелија",{"$nulls":7},0,null,null,0]
[35,"Дојран",{"$nulls":7},0,null,null,0]
[36,"Конче",{"$nulls":7},0,null,null,0]
[37,"Ново Село",{"$nulls":7},0,null,null,0]
[38,"Радовиш",{"$nulls":7},0,null,null,0]
[39,"Струмица",{"$nulls":7},0,null,null,0]
[null,"Пелагониски регион",{"$f":"SUM(C48:C56)","v":0},{"$f":"SUM(D48:D56)","v":0},0,0,0,0,0,0,0,0,0]
[40,"Битола",{"$nulls":7},0,null,null,0]
[41,"Демир Хисар",{"$nulls":7},0,null,null,0]
[42,"Долнени",{"$nulls":7},0,null,null,0]
[43,"Кривогаштани",{"$nulls":7},0,null,null,0]
[44,"Крушево",{"$nulls":7},0,null,null,0]
[45,"Могила",{"$nulls":7},0,null,null,0]
[46,"Новаци",{"$nulls":7},0,null,null,0]
[47,"Прилеп",{"$nulls":7},0,null,null,0]
[48,"Ресен",{"$nulls":7},0,null,null,0]
[null,"Полошки регион",{"$f":"SUM(C58:C66)","v":0},{"$f":"SUM(D58:D66)","v":0},0,0,15,0,0,15,0,0,15]
[49,"Боговиње",{"$nulls":7},0,null,null,0]
[50,"Бревеница",{"$nulls":7},0,null,null,0]
[51,"Врапчиште",{"$nulls":7},0,null,null,0]
[52,"Гостивар",{"$nulls":4},10,null,null,10,null,null,10]
[53,"Желино",{"$nulls":7},0,null,null,0]
[54,"Јегуновце",{"$nulls":7},0,null,null,0]
[55,"Маврово и Ростуша",{"$nulls":7},0,null,null,0]
[56,"Теарце",{"$nulls":7},0,null,null,0]
[57,"Тетово",{"$nulls":4},5,null,null,5,null,null,5]
[null,"Североисточен регион",{"$f":"SUM(C68:C73)","v":0},{"$f":"SUM(D68:D73)","v":0},0,0,0,0,0,0,0,0,0]
[58,"Кратово",{"$nulls":7},0,null,null,0]
[59,"Крива Паланка",{"$nulls":7},0,null,null,0]
[60,"Куманово",{"$nulls":7},{"$f":"SUM(E70:I70)","v":0},null,null,{"$f":"SUM(J70:L70)","v":0}]
[61,"Липково",{"$nulls":7},0,null,null,0]
[62,"Ранковце",{"$nulls":7},0,null,null,0]
[63,"Старо Нагоричане",{"$nulls":7},0,null,null,0]
[null,"Скопски регион",{"$f":"SUM(C75:C91)","v":0},{"$f":"SUM(D75:D91)","v":0},0,0,3,0,0,3,0,0,3]
[64,"Аеродром",{"$nulls":7},{"$f":"SUM(E75:I75)","v":0},null,null,{"$f":"SUM(J75:L75)","v":0}]
[65,"Арачиново",{"$nulls":7},0,null,null,0]
[66,"Бутел",{"$nulls":7},0,null,null,0]
[67,"Гази Баба",{"$nulls":7},0,null,null,0]
[68,"Ѓорче Петров",{"$nulls":4},3,null,null,3,null,null,3]
[69,"Зелениково",{"$nulls":7},0,null,null,0]
[70,"Илинден",{"$nulls":7},0,null,null,0]
[71,"Карпош",{"$nulls":7},0,null,null,0]
[72,"Кисела Вода",{"$nulls":7},0,null,null,0]
[73,"Петровец",{"$nulls":7},0,null,null,0]
[74,"Сарај",{"$nulls":7},0,null,null,0]
[75,"Сопиште",{"$nulls":7},0,null,null,0]
[76,"Студеничани",{"$nulls":7},0,null,null,0]
[77,"Центар",{"$nulls":7},0,null,null,0]
[78,"Чаир",{"$nulls":7},0,null,null,0]
[79,"Чучер-Сандево",{"$nulls":7},0,null,null,0]
[80,"Шуто Оризари",{"$nulls":7},0,null,null,0]
["ВКУПНО",null,{"$f":"SUM(C4,C14,C26,C36,C47,C57,C67,C74)","v":0},{"$f":"SUM(D4,D14,D26,D36,D47,D57,D67,D74)","v":0},0,0,20,0,0,20,0,0,20]

{"sheet":"Табела 3","index":8,"n_rows":20,"n_cols":8,"rows_kept":20,"merged":[[0,0,0,7],[1,0,1,5],[1,6,1,7],[2,0,2,5],[2,6,2,7],[3,0,4,0],[3,1,4,1],[3,2,4,2],[3,3,4,3],[3,4,3,7]]}
["Табела 3 Временски распоред на планираните редовни инспекциски надзори по инспекторза месец и субјекти на надзор за [месец], [ГГГГ] година"]
["Име и презиме на инспектор",{"$nulls":5},"Број на лиценца на инспектор"]
[]
["Ред. број","Датум на надзор","Коеф. на сложеност","Шифра на закон","Субјект на надзор"]
[{"$nulls":4},"Назив","ЕМБС или ЕДБС","Адреса","Општина"]
[1]
[2]
[3]
[4]
[5]
[6]
[7]
[8]
[9]
[10]
[11]
[12]
[13]
[14]
[15]